Workbook

Sheet Task 1 (a) and (b)
A1: Task 1 (a) | K1: Marks | L1: Max Marks | M1: Additional Guidance
B2: Indirect Labour | C2: 69200 | J2: 20
B3: Indirect Materials | C3: 9000
B4: Machine Insurance | C4: 6000
B5: Property Insurance | C5: 16000
B6: Heat and Light | C6: 32000
B7: Rent | C7: 48000
B8: Power | C8: 6000
B9: Machine Depreciation | C9: 6000
B10: Supervision | C10: 25000
C11: =SUM(C2:C10) -> 217200
L12: 20
A13: (a) | B13: Factory wide overhead absorption rate | D13: Total Overheads | F13: 217200 | G13: =F13/F14 -> 8 | H13: per direct labour hour | K13: 1 | L13: 1 | M13: Accept 8
D14: Total Direct Labour Hours | F14: 27150
C16: Cutting | D16: Machining | E16: Packaging | F16: Maintenance | G16: Canteen | H16: Totals
B17: Indirect labour | C17: 13300 | D17: 15650 | E17: 19075 | F17: 13055 | G17: 8120 | H17: =SUM(C17:G17) -> 69200
B18: Direct Materials | C18: 40000 | D18: 5000 | E18: 10000 | F18: 6000 | G18: 12000 | H18: =SUM(C18:G18) -> 73000
B19: Indirect Materials | C19: 4000 | D19: 2000 | E19: 3000 | H19: =SUM(C19:G19) -> 9000
B20: Area (sq m) | C20: 15000 | D20: 12000 | E20: 3000 | F20: 500 | G20: 1500 | H20: =SUM(C20:G20) -> 32000
B21: No of employees | C21: 200 | D21: 100 | E21: 50 | F21: 10 | G21: 40 | H21: =SUM(C21:G21) -> 400
B22: Kilowatt hours | C22: 10000 | D22: 8000 | E22: 2000 | H22: =SUM(C22:G22) -> 20000
B23: Machinery at cost | C23: 30000 | D23: 25000 | E23: 5000 | H23: =SUM(C23:G23) -> 60000
B24: Direct machine hours | C24: 6000 | D24: 3000 | E24: 1000 | F24: 500 | H24: =SUM(C24:G24) -> 10500
B25: Direct labour hours | C25: 9000 | D25: 6350 | E25: 7000 | F25: 1800 | G25: 3000 | H25: =SUM(C25:G25) -> 27150
A28: Task 1 (b) | K28: Marks | L28: Max Marks | M28: Additional Guidance
A29: (b) (i) | B29: Overhead Analysis Statement/Sheet | D29: ü | L29: 10
C31: Basis | D31: Total | E31: Rate | F31: Cutting | G31: Machining | H31: Packaging | I31: Maintenance | J31: Canteen
B32: Indirect Labour | C32: Allocated | D32: =H17 -> 69200 | E32: - | F32: =C17 -> 13300 | G32: =D17 -> 15650 | H32: =E17 -> 19075 | I32: =F17 -> 13055 | J32: =G17 -> 8120 | K32: ü | M32: Award 1 mark for heading, Indirect Labour and Indirect Materials
B33: Indirect Materials | C33: Allocated | D33: 9000 | E33: - | F33: =C19 -> 4000 | G33: =D19 -> 2000 | H33: =E19 -> 3000 | I33: =F19 -> 0 | J33: =G19 -> 0 | K33: 1
B34: Machine Insurance | C34: Machine cost | D34: =C4 -> 6000 | E34: =D34/H23 -> 0.1 | F34: =$E$34*C23 -> 3000 | G34: =$E$34*D23 -> 2500 | H34: =$E$34*E23 -> 500 | I34: =$E$34*F23 -> 0 | J34: =$E$34*G23 -> 0 | K34: 1 | M34: If Direct Materials are included, DNA first available mark
B35: Property Insurance | C35: Area | D35: 16000 | E35: =D35/H20 -> 0.5 | F35: =$E$35*C20 -> 7500 | G35: =$E$35*D20 -> 6000 | H35: =$E$35*E20 -> 1500 | I35: =$E$35*F20 -> 250 | J35: =$E$35*G20 -> 750 | K35: ü | M35: If Total column omitted, DNA first available mark
B36: Heat and Light | C36: Area | D36: =C6 -> 32000 | E36: =D36/H20 -> 1 | F36: =$E$36*C20 -> 15000 | G36: =$E$36*D20 -> 12000 | H36: =$E$36*E20 -> 3000 | I36: =$E$36*F20 -> 500 | J36: =$E$36*G20 -> 1500 | K36: ü
B37: Rent | C37: Area | D37: =C7 -> 48000 | E37: =D37/H20 -> 1.5 | F37: =$E$37*C20 -> 22500 | G37: =$E$37*D20 -> 18000 | H37: =$E$37*E20 -> 4500 | I37: =$E$37*F20 -> 750 | J37: =$E$37*G20 -> 2250 | K37: 2 | M37: Award 2 marks for all 3 rows correct, 1 mark for 2 rows correct
B38: Power | C38: Kw Hrs | D38: =C8 -> 6000 | E38: =D38/H22 -> 0.3 | F38: =$E$38*C22 -> 3000 | G38: =$E$38*D22 -> 2400 | H38: =$E$38*E22 -> 600 | I38: =$E$38*F22 -> 0 | J38: =$E$38*G22 -> 0 | K38: 1
B39: Machine Depreciation | C39: Machine cost | D39: =C9 -> 6000 | E39: =D39/H23 -> 0.1 | F39: =$E$39*C23 -> 3000 | G39: =$E$39*D23 -> 2500 | H39: =$E$39*E23 -> 500 | I39: =$E$39*F23 -> 0 | J39: =$E$39*G23 -> 0 | K39: 1
B40: Supervision | C40: No of Employees | D40: =C10 -> 25000 | E40: =D40/H21 -> 62.5 | F40: =$E$40*C21 -> 12500 | G40: =$E$40*D21 -> 6250 | H40: =$E$40*E21 -> 3125 | I40: =$E$40*F21 -> 625 | J40: =$E$40*G21 -> 2500 | K40: 1
B41: Total Department Overheads | D41: =SUM(D32:D40) -> 217200 | F41: =SUM(F32:F40) -> 83800 | G41: =SUM(G32:G40) -> 67300 | H41: =SUM(H32:H40) -> 35800 | I41: =SUM(I32:I40) -> 15180 | J41: =SUM(J32:J40) -> 15120
A42: (b) (ii) | B42: Re-apportionment of Canteen | C42: No of Employees | D42: =J41 -> 15120 | E42: =D42/(H21-G21) -> 42 | F42: =$E$42*C21 -> 8400 | G42: =$E$42*D21 -> 4200 | H42: =$E$42*E21 -> 2100 | I42: =$E$42*F21 -> 420 | K42: 1
F43: =SUM(F41:F42) -> 92200 | G43: =SUM(G41:G42) -> 71500 | H43: =SUM(H41:H42) -> 37900 | I43: =SUM(I41:I42) -> 15600
A44: (b) (iii) | B44: Re-apportionment of Maintenance | C44: Machinery cost | D44: =I43 -> 15600 | E44: =D44/H23 -> 0.26 | F44: =$E$44*C23 -> 7800 | G44: =$E$44*D23 -> 6500 | H44: =$E$44*E23 -> 1300 | K44: 1
...

Sheet Task 1 (c) and (d)
A1: Task 1 | B1: Overhead Absorption Rates | K1: Marks | L1: Max Marks
A2: (c) | L2: 3
B3: Cutting | C3: Total Overheads | D3: x 100 | E3: ='Task 1 (a) and (b)'!F45 -> 100000 | F3: x 100 | G3: ='Task 1 (a) and (b)'!F45/'Task 1 (a) and (b)'!C18 -> 2.5 | H3: of direct materials cost | K3: 1 | M3: If % or £ not shown, do not award 1st mark
C4: Direct Materials | E4: 40000
B6: Machining | C6: Total Overheads | D6: ='Task 1 (a) and (b)'!G45 -> 78000 | G6: ='Task 1 (a) and (b)'!G45/'Task 1 (a) and (b)'!D24 -> 26 | H6: per direct machine hour | K6: 1
C7: Direct Machine Hours | D7: 3000
B9: Packaging | C9: Total Overheads | D9: ='Task 1 (a) and (b)'!H45 -> 39200 | G9: ='Task 1 (a) and (b)'!H45/'Task 1 (a) and (b)'!E25 -> 5.6 | H9: per direct labour hour | K9: 1
C10: Direct Labour Hours | D10: 7000
A14: Task 1 | H14: Marks | I14: Max Marks | J14: Additional Guidance
A15: (d) | I15: 6
C17: Cutting | E17: Machining | G17: Packaging
B18: Actual Direct Materials | C18: 41200 | D18: Actual Direct Machine Hours | E18: 2890 | F18: Actual Direct Labour Hours | G18: 6840
B19: x Overhead Absorption Rate | C19: 2.5 | E19: 26 | G19: 5.6
B20: Overheads Charged | C20: =C18*C19 -> 103000 | D20: 1 | E20: =E18*E19 -> 75140 | F20: 1 | G20: =G18*G19 -> 38304 | H20: 1 | J20: If overheads charged figure is not based on overhead absorption rates calculated in 1 (c), DNA marks
B21: Less Actual Overheads (given) | C21: 102000 | E21: 77500 | G21: 38100 | J21: If actual overheads are compared to overhead analysis statement production department totals, DNA over/under absorbed marks
B22: Overheads Over/Under Absorbed | C22: =C20-C21 -> 1000 | D22: ü | E22: =E20-E21 -> -2360 | F22: ü | G22: =G20-G21 -> 204 | H22: ü
C23: Over | D23: 1 | E23: Under | F23: 1 | G23: Over | H23: 1 | J23: 1 mark for each, including over/under

Sheet Task 2 (a)
A1: Task 2 (a) | J1: Marks | K1: Max Marks | L1: Additional Guidance
A2: Production Budget (for January to June) | D2: P | J2: 4
B3: January | D3: February | E3: March | F3: April | G3: May | I3: June
A4: Sales units | B4: 3000 | D4: 6000 | E4: 4000 | F4: 4500 | G4: 4200 | I4: 5000 | J4: 1 | L4: 1 mark for heading, Opening and Closing Inventory labels and Sales row
A5: Opening Inventory ü | B5: =B4*0.2 -> 600 | C5: ü | D5: =B7 -> 1200 | E5: =D7 -> 800 | F5: =E7 -> 900 | G5: =F7 -> 840 | I5: =G7 -> 1000 | L5: * 1 mark for all highlighted figures
B6: =B4-B5 -> 2400 | D6: =D4-D5 -> 4800 | E6: =E4-E5 -> 3200 | F6: =F4-F5 -> 3600 | G6: =G4-G5 -> 3360 | I6: =I4-I5 -> 4000
A7: Closing Inventory ü | B7: =D4*0.2 -> 1200 | D7: =E4*0.2 -> 800 | E7: =F4*0.2 -> 900 | F7: =G4*0.2 -> 840 | G7: =I4*0.2 -> 1000 | H7: 1* | I7: =5500*0.2 -> 1100 | J7: 1 | L7: 1 mark for correct January Opening and June Closing Inventory
A8: Production units | B8: =B6+B7 -> 3600 | D8: =D6+D7 -> 5600 | E8: =E6+E7 -> 4100 | F8: =F6+F7 -> 4440 | G8: =G6+G7 -> 4360 | I8: =I6+I7 -> 5100 | J8: 1 | L8: 1 mark for deducting Opening Inventory and adding Closing Inventory
L10: If no Production Budget is prepared but production units are correctly shown in the Spreadsheet Template, award 1 mark
L13: If Production and Sales rows have been adapted into a Production Budget in the Spreadsheet Template, award 1 mark max for production units, if correct

Sheet Task 2 (b) - value
A1: Production and Sales Units | H1: Marks | I1: Max Mark | J1: Additional Guidance
B2: January | C2: February | D2: March | E2: April | F2: May | G2: June | I2: 13
A3: Production units | B3: ='Task 2 (a)'!B8 -> 3600 | C3: ='Task 2 (a)'!D8 -> 5600 | D3: ='Task 2 (a)'!E8 -> 4100 | E3: ='Task 2 (a)'!F8 -> 4440 | F3: ='Task 2 (a)'!G8 -> 4360 | G3: ='Task 2 (a)'!I8 -> 5100
A4: Sales units | B4: ='Task 2 (a)'!B4 -> 3000 | C4: ='Task 2 (a)'!D4 -> 6000 | D4: ='Task 2 (a)'!E4 -> 4000 | E4: ='Task 2 (a)'!F4 -> 4500 | F4: ='Task 2 (a)'!G4 -> 4200 | G4: ='Task 2 (a)'!I4 -> 5000
A6: Selling price per unit | B6: 40
A7: Material cost per unit | B7: 5
A8: Labour cost per unit | B8: 6
A9: Selling expenses per unit | B9: 1
A13: Cash Budget for 3 months March to May
B14: March | C14: April | D14: May
B15: £ | C15: £ | D15: £
A16: Opening Balance | B16: 15000 | C16: =B31 -> 142600 | D16: =C31 -> 252440
A18: Add Receipts
A19: Cash Sales | B19: =D4*$B$6*0.2 -> 32000 | C19: =E4*$B$6*0.2 -> 36000 | D19: =F4*$B$6*0.2 -> 33600
A20: Credit Sales - one month | B20: =C4*$B$6*0.8*0.75 -> 144000 | C20: =D4*$B$6*0.8*0.75 -> 96000 | D20: =E4*$B$6*0.8*0.75 -> 108000
A21: Credit Sales - 2 months | B21: =B4*$B$6*0.8*0.25*0.95 -> 22800 | C21: =C4*$B$6*0.8*0.25*0.95 -> 45600 | D21: =D4*$B$6*0.8*0.25*0.95 -> 30400
A22: Total Receipts | B22: =SUM(B19:B21) -> 198800 | C22: =SUM(C19:C21) -> 177600 | D22: =SUM(D19:D21) -> 172000
A24: Less Payments
A25: Materials | B25: =$B$7*E3 -> 22200 | C25: =$B$7*F3 -> 21800 | D25: =$B$7*G3 -> 25500
A26: Labour | B26: =$B$8*D3 -> 24600 | C26: =$B$8*E3 -> 26640 | D26: =$B$8*F3 -> 26160
A27: Variable overheads | B27: =IF(D3<=4200,D3*4,D3*3) -> 16400 | C27: =IF(E3<=4200,E3*4,E3*3) -> 13320 | D27: =IF(F3<=4200,F3*4,F3*3) -> 13080
A28: Fixed Costs | B28: =IF(C3>500,2000,1800) -> 2000 | C28: =IF(D3>500,2000,1800) -> 2000 | D28: =IF(E3>500,2000,1800) -> 2000
A29: Selling Expenses | B29: =$B$9*C4 -> 6000 | C29: =$B$9*D4 -> 4000 | D29: =$B$9*E4 -> 4500
A30: Total Payments | B30: =SUM(B25:B29) -> 71200 | C30: =SUM(C25:C29) -> 67760 | D30: =SUM(D25:D29) -> 71240
A31: Closing Balance | B31: =B16+B22-B30 -> 142600 | C31: =C16+C22-C30 -> 252440 | D31: =D16+D22-D30 -> 353200
H32: 1 mark for all highlighted data cells

Sheet Task 2 (b) - formula
A1: Production and Sales Units
B2: January | C2: February | D2: March | E2: April | F2: May | G2: June
A3: Production units | B3: 3600 | C3: 5600 | D3: 4100 | E3: 4440 | F3: 4360 | G3: 5100
A4: Sales units | B4: 3000 | C4: 6000 | D4: 4000 | E4: 4500 | F4: 4200 | G4: 5000
A6: Selling price per unit | B6: 40
A7: Material cost per unit | B7: 5
A8: Labour cost per unit | B8: 6
A9: Selling expenses per unit | B9: 1
A13: Cash Budget for 3 months March to May | F13: Additional Guidance
B14: March | C14: April | D14: May | F14: Formula must be replicated to gain marks
B15: £ | C15: £ | D15: £ | F15: Accept Named cells
A16: Opening Balance | B16: 15000 | C16: =B31 -> 142600 | D16: =C31 -> 252440 | E16: 1
A18: Add Receipts
A19: Cash Sales | B19: =D4*$B$6*0.2 -> 32000 | C19: =E4*$B$6*0.2 -> 36000 | D19: =F4*$B$6*0.2 -> 33600 | E19: 1
A20: Credit Sales - 1 month | B20: =C4*$B$6*0.8*0.75 -> 144000 | C20: =D4*$B$6*0.8*0.75 -> 96000 | D20: =E4*$B$6*0.8*0.75 -> 108000 | E20: 1
A21: Credit Sales - 2 months | B21: =B4*$B$6*0.8*0.25*0.95 -> 22800 | C21: =C4*$B$6*0.8*0.25*0.95 -> 45600 | D21: =D4*$B$6*0.8*0.25*0.95 -> 30400 | E21: 2 all or nothing
A22: Total Receipts | B22: =SUM(B19:B21) -> 198800 | C22: =SUM(C19:C21) -> 177600 | D22: =SUM(D19:D21) -> 172000
A24: Less Payments
A25: Materials | B25: =$B$7*E3 -> 22200 | C25: =$B$7*F3 -> 21800 | D25: =$B$7*G3 -> 25500 | E25: 1
A26: Labour | B26: =$B$8*D3 -> 24600 | C26: =$B$8*E3 -> 26640 | D26: =$B$8*F3 -> 26160 | E26: 1
A27: Variable Overheads | B27: =IF(D3<=4200,D3*4,D3*3) -> 16400 | C27: =IF(E3<=4200,E3*4,E3*3) -> 13320 | D27: =IF(F3<=4200,F3*4,F3*3) -> 13080 | E27: 2 all or nothing | F27: Accept =IF(D3>4200,D3*3,D3*4)
A28: Fixed Costs | B28: 2000 | C28: =B28 -> 2000 | D28: =C28 -> 2000 | E28: 1
A29: Selling Expenses | B29: =$B$9*C4 -> 6000 | C29: =$B$9*D4 -> 4000 | D29: =$B$9*E4 -> 4500 | E29: 1
A30: Total Payments | B30: =SUM(B25:B29) -> 71200 | C30: =SUM(C25:C29) -> 67760 | D30: =SUM(D25:D29) -> 71240
A31: Closing Balance | B31: =B16+B22-B30 -> 142600 | C31: =C16+C22-C30 -> 252440 | D31: =D16+D22-D30 -> 353200 | E31: 1
E33: 1 data mark
E34: 12 formulae marks
D35: Total | E35: 13

Sheet Task 3 (a) and (b)
A1: Task 3 | I1: Max Marks | J1: Additional Guidance
A2: (a) | B2: Income Statement of A and B Clothing for the year ended 31 December Year 9 ü | I2: 5
D4: £ | F4: £
B5: Profit for the Year | F5: 800000 | G5: ü | J5: If Profit for the Year is adjusted for Interest on Loan DNA Heading, profit for the year, arithmetic and no extraneous mark
B6: Add Interest on Drawings | C6: Ashker | D6: =0.04*50000 -> 2000 | E6: ü
C7: Benton | D7: =0.04*40000 -> 1600 | E7: 1 | F7: =SUM(D6:D7) -> 3600 | J7: DNA if wrong effect
F8: =F5+F7 -> 803600
B9: Less Interest on Equity | C9: Ashker | D9: =6%*600000 -> 36000 | E9: ü
C10: Benton | D10: =6%*400000 -> 24000 | E10: 1 | J10: DNA if wrong effect
B11: Less Salary - Benton | D11: =4000*12 -> 48000 | E11: 1 | F11: =SUM(D9:D11) -> 108000 | J11: DNA if wrong effect
B12: Residual Profit | F12: =F8-F11 -> 695600
B13: Share of Profit | C13: Ashker (60%) | D13: =F12*6/10 -> 417360 | E13: ü | J13: If Interest on Loan included as an Appropriation item, DNA Share of Profit mark. If Share of Profit is not included, DNA first available mark.
C14: Benton (40%) | D14: =F12*0.4 -> 278240 | E14: 1 | F14: =SUM(D13:D14) -> 695600
B16: Heading, Profit for the Year, arithmetic and no extraneous (1)
A20: Task 3 | J20: Max Marks | L20: Additional Guidance
A21: (b) | B21: Current Account - Ashker P | K21: 6
B22: Date | C22: Details | D22: Dr | F22: Cr | H22: Balance | I22: P
B23: 1 January | C23: Opening Balance | H23: 11500 | I23: Dr | J23: ü
B24: 31 December | C24: Interest on Equity | F24: =D9 -> 36000 | G24: ü | H24: =F24-H23 -> 24500 | I24: Cr | L24: Award mark if corresponding entries in both Current Accounts is correct
B25: 31 December | C25: Share of Profit | F25: =D13 -> 417360 | G25: ü | H25: =H24+F25-D25 -> 441860 | I25: Cr
B26: 31 December | C26: Interest on Loan | F26: =0.05*40000 -> 2000 | G26: ü | H26: =H25+F26-D26 -> 443860 | I26: Cr | L26: Award mark for Interest on Loan and Salary
B27: 31 December | C27: Drawings | D27: 50000 | E27: ü | H27: =H26+F27-D27 -> 393860 | I27: Cr
B28: 31 December | C28: Interest on Drawings | D28: =D6 -> 2000 | E28: ü | H28: =H27+F28-D28 -> 391860 | I28: Cr
B30: Current Account - Benton P
B31: Date | C31: Details | D31: Dr | F31: Cr | H31: Balance | I31: P
B32: 1 January | C32: Opening Balance | H32: 30000 | I32: Cr | J32: 1 | L32: 1 mark for all headings, labels, dates and opening balances
B33: 31 December | C33: Interest on Equity | F33: =D10 -> 24000 | G33: 1 | H33: =H32+F33-D33 -> 54000 | I33: Cr | L33: If running balance incorrect, DNA mark for headings, dates and opening balance, or next available mark
B34: 31 December | C34: Share of Profit | F34: =D14 -> 278240 | G34: 1 | H34: =H33+F34-D34 -> 332240 | I34: Cr | L34: If not shown as a ledger account, DNA mark for headings, dates and opening balance, and next available mark
B35: 31 December | C35: Salary | F35: =D11 -> 48000 | G35: 1 | H35: =H34+F35-D35 -> 380240 | I35: Cr | L35: If Current Account shown as complete reversal, award marks gained and divide by 2 (max 3)
B36: 31 December | C36: Drawings | D36: 40000 | E36: 1 | H36: =H35+F36-D36 -> 340240 | I36: Cr | L36: If headed as Current Account, but includes an entry for Equity, DNA Interest on Equity mark
B37: 31 December | C37: Interest on Drawings | D37: =D7 -> 1600 | E37: 1 | H37: =H36+F37-D37 -> 338640 | I37: Cr | L37: If headed as Equity Account, and Equity shown as Opening Balance, award marks gained and divide by 2 (max 3)
L38: If Loan is included, DNA Interest on Loan and Salary mark

Sheet Task 3 (c) and (d)
A1: Task 3 | E1: Marks | F1: Max Marks | G1: Additional Guidance
A2: (c) (i) | B2: Revaluation of Assets | F2: 3
B3: Increase in Property | D3: =720000-600000 -> 120000 | E3: ü
B4: Decrease in Machinery | D4: =55000-60000 -> -5000 | E4: 1 | G4: 1 mark for Property increase and Machinery decrease
B5: Increase in Inventory | D5: =18500-13750 -> 4750 | E5: ü
B6: Decrease in Delivery Vans | D6: =26000-28000 -> -2000 | E6: 1 | G6: 1 mark for Inventory increase and Delivery Vans decrease
B7: Revaluation expenses | D7: -15000 | E7: ü
B8: Profit on revaluation | D8: =SUM(D3:D7) -> 102750 | E8: 1 | G8: 1 mark for Revaluation expenses and Profit on revaluation
E13: Marks | F13: Max Marks | G13: Additional Guidance
A14: (c) (ii) | B14: Profit sharing ratios | C14: Cameron | D14: 0.25 | E14: ü | F14: 1
C15: Ashker | D15: =75%*6/10 -> 0.45 | E15: ü
C16: Benton | D16: =75%*4/10 -> 0.3 | E16: 1 | G16: 1 mark for all 3 percentages correct
G17: Accept fractions 1/4, 9/20, 3/10
A21: (c) (iii) | B21: EQUITY ACCOUNTS | D21: Ashker | F21: Benton | G21: Cameron | H21: Marks | I21: Max Marks | J21: Additional Guidance
B22: Opening Balance | D22: 600000 | F22: 400000 | G22: 300000 | H22: ü | I22: 4
B23: Add Share of Profit on revaluation | D23: =D8*0.6 -> 61650 | F23: =D8*0.4 -> 41100 | H23: 1
B24: Add Share of Goodwill | D24: =0.6*50000 -> 30000 | F24: =0.4*50000 -> 20000 | H24: 1
D25: =SUM(D22:D24) -> 691650 | F25: =SUM(F22:F24) -> 461100 | G25: =SUM(G22:G24) -> 300000
B26: Less Goodwill Written Off | D26: =50000*D15 -> 22500 | F26: =50000*D16 -> 15000 | G26: =50000*D14 -> 12500 | H26: 1
B27: Updated Equity Balance | D27: =D25-D26 -> 669150 | F27: =F25-F26 -> 446100 | G27: =G25-G26 -> 287500 | H27: 1 | J27: 1 mark for Opening Balance and Updated Equity Balance
J28: If any additional entry, DNA Updated Equity Balance mark
A33: (d) | B33: Advantages of admitting a new partner: | H33: Marks | I33: Max Marks | J33: Additional Guidance
B34: More ideas can be brought to the business | I34: 4 | J34: 1 mark for each description
B35: More equity is invested into the business
B36: There will be greater borrowing capacity
B37: There will be greater expertise/specialist knowledge
B38: The new partner may bring in new clients/customers
B39: The risk is shared between more partners
B40: A wider range of skills is brought to the business
B41: The workload is shared between more partners
