Workbook

Sheet Changed TB
B1: £000 | C1: £000
A2: £1 Ordinary Shares | C2: 5000
A3: 12% Debentures | C3: 2000
A4: Sales Revenue | C4: 11200
A5: Purchases | B5: 4100
A6: Distribution Costs | B6: 750
A7: Debenture Finance Cost | B7: 150
A8: Investment Revenues (Bank Interest) | C8: 12
A9: Cash & Cash Equivalents | B9: 510
A10: Wages & Salaries | B10: 2530
A11: General Expenses | B11: 1000
A12: Marketing Costs | B12: 425
A13: Goodwill | B13: 300
A14: Property | B14: 8000
A15: Plant & Machinery | B15: 2300
A16: Provision for Depreciation: Plant & Machinery | C16: 420
A17: Trade Receivables | B17: 900
A18: Trade Payables | C18: 670
A19: Investments (Market Value (1,400,000) | B19: 1250
A20: Share Premium | C20: 600
A21: Income from Investments | C21: 78
A22: Ordinary Dividend Paid | B22: 300
A23: Inventory at 1 January Year 5 | B23: 480
A24: Directors' Remuneration | B24: 895
A25: Net Discounts | C25: 10
A26: Revaluation Reserve | C26: 840
A27: Retained Earnings at 1 January Year 5 | C27: 3060
B28: =SUM(B2:B27) -> 23890 | C28: =SUM(C2:C27) -> 23890

Sheet Q1 (a)
A1: Question | B1: Expected response(s) | F1: Max mark | G1: Additional Guidance
A2: 1. (a) | B2: BAKER PLC | F2: 19
B3: INCOME STATEMENT FOR THE YEAR ENDED 31 DECEMBER YEAR 5
C4: £000 | D4: £000
B5: Opening Retained Earnings | D5: 11200 | E5: 1
B6: Less Cost of Sales | D6: ='Q1 (a) Notes'!C17 -> 4684 | E6: *
B7: GROSS PROFIT | D7: =D5-D6 -> 6516
B8: Less Administration Expenses | C8: ='Q1 (a) Notes'!D17 -> 2130 | E8: *
B9: Less Distribution Expenses | C9: ='Q1 (a) Notes'!E17 -> 3119 | D9: =C8+C9 -> 5249 | E9: *11
B10: PROFIT FROM OPERATIONS | D10: =D7-D9 -> 1267
B11: Other Income (78 + 20) | D11: =78+20 -> 98 | E11: 2 | G11: 1 for Profit on Sale (150 - 130) and 1 Investment Income
B12: Other Expenses | D12: -100 | E12: 1
B13: PROFIT BEFORE FINANCE COSTS | D13: =SUM(D10:D12) -> 1265
B14: Finance Costs | D14: =12-240 -> -228 | E14: 2 | G14: 1 for Finance Cost 12% x 2,000 = (240)
B15: PROFIT BEFORE TAX | D15: =D13+D14 -> 1037 | G15: 1 for Finance Income: Interest Received 12
B16: Taxation | D16: 702 | E16: 1
B17: PROFIT FOR THE YEAR | D17: =D15-D16 -> 335 | G17: All labels & heading (in bold) present, arithmetic accuracy and no extraneous items
B19: Labels/no extraneous/arithmetic correct (L/E/A) 1

Sheet Q1 (a) Notes
A1: Question | B1: Expected response(s) | F1: Marks | G1: Additional Guidance
A2: 1. (a) | B2: WORKING NOTES
C3: COST OF SALES | D3: ADMIN | E3: DISTRIBUTION
B4: Opening Inventory | C4: 480 | F4: *
B5: Opening Retained Earnings | C5: 4100 | F5: *
C6: =C4+C5 -> 4580
B7: less Closing Inventory | C7: 490 | F7: *1 | H7: 1 for all 3
C8: =C6-C7 -> 4090
B9: Distribution Costs | E9: 750 | F9: *
B10: Wages & Salaries (2,530 + 210) 1 | C10: =$G$10*10% -> 274 | D10: =$G$10*30% -> 822 | E10: =$G$10*60% -> 1644 | F10: 1 | G10: =2530+210 -> 2740
B11: General Expenses (1,000/5*4) 1 | C11: =$G$11*40% -> 320 | D11: =$G$11*40% -> 320 | E11: =$G$11*20% -> 160 | F11: 1 | G11: =1000/5*4 -> 800
B12: Marketing Costs | E12: 425 | F12: *
B13: Directors' Remuneration | D13: 895 | F13: *2 | H13: 2 for Distribution costs, marketing costs and directors' remuneration
B14: Net Discounts | D14: -10 | F14: 1
B15: Audit Fee | D15: 68 | F15: 1
B16: Depreciation: Plant & Machinery | D16: =G16/5 -> 35 | E16: =G16*4/5 -> 140 | F16: 1 | G16: =((2300-300)-(420-170))*10% -> 175 | H16: (2,300-300)-(420-170)x10% (1)
C17: =SUM(C8:C16) -> 4684 | D17: =SUM(D8:D16) -> 2130 | E17: =SUM(E8:E16) -> 3119

Sheet Q1 (b)
A1: Question | B1: Expected response(s) | F1: Max mark | G1: Additional Guidance
A2: 1. (b) | B2: BAKER PLC | F2: 2
B3: STATEMENT OF RETAINED EARNINGS FOR THE YEAR ENDED 31 DECEMBER YEAR 5
C4: £000
B5: Opening Retained Earnings | C5: 3060 | D5: *
B6: add Profit for the Year | C6: ='Q1 (a)'!D17 -> 335 | D6: *1
C7: =C5+C6 -> 3395
B8: less Dividends paid | C8: 300 | D8: 1
B9: Closing Retained Earnings | C9: =C7-C8 -> 3095

Sheet Q1 (c)
A1: Question | B1: Expected response(s) | F1: Max mark | G1: Additional Guidance
A2: 1. (c) | B2: BAKER PLC | F2: 19
B3: STATEMENT OF FINANCIAL POSITION AS AT 31 DECEMBER YEAR 5
C4: £000 | D4: £000 | E4: £000
B5: Opening Retained Earnings
B6: Tangible Assets | E6: =E44 -> 10215 | F6: 4
B7: Intangible Assets (300 - 100) | E7: =300-100 -> 200 | F7: 1
B8: Investments | E8: 1250 | F8: 1
E9: =SUM(E6:E8) -> 11665
B10: CURRENT ASSETS
B11: Inventory | D11: 490 | F11: *
B12: Trade Receivables | D12: 900 | F12: *1 for both | H12: 1 for both Inventory and Trade Receivalables
B13: Other Receivables | D13: 200 | F13: **
B14: Cash & Cash Equivalents (510 (1) + 150 (1)) | D14: =510+150 -> 660 | E14: =SUM(D11:D14) -> 2250 | F14: 2
B15: TOTAL ASSETS | E15: =E9+E14 -> 13915
B16: CURRENT LIABILITIES
B17: Trade Payables | C17: 670 | F17: **1 for both | H17: 1 for both Other Receivables and Trade Payables
B18: Other Paybles (210 + 68) | C18: =210+68 -> 278 | F18: 1
B19: Debenture Finance Cost due | C19: 90 | F19: 1
B20: Corporation Tax due | C20: ='Q1 (a)'!D16 -> 702 | D20: =SUM(C17:C20) -> 1740 | F20: 1
B21: NON CURRENT LIABILITES
B22: 12% Debentures | D22: 2000 | F22: 1
B23: TOTAL LIABILITIES | E23: =D20+D22 -> 3740
B24: NET ASSETS | E24: =E15-E23 -> 10175
B25: EQUITY
B26: £1 Ordinary Shares | E26: 5000 | F26: 1
B27: Share Premium | E27: 600 | F27: 1
B28: Retained Earnings | E28: ='Q1 (b)'!C9 -> 3095 | F28: 1
B29: Revaluation Reserve (840 + 640) | E29: =840+640 -> 1480 | F29: 1
E30: =SUM(E26:E29) -> 10175
B32: All labels & heading (in bold) present, arithmetic accuracy and no extraneous items
B33: 1 mark (H/L/A/E)
B35: TANGIBLE ASSETS | C35: COST | D35: AGG DEP | E35: NBV
C36: £000 | D36: £000 | E36: £000
B37: Plant & Machinery
B38: 1 April Year 5 | C38: 2300 | D38: 420 | E38: =C38-D38 -> 1880
B39: Disposal | C39: 300 | D39: 170 | E39: =C39-D39 -> 130 | F39: (1 for line)
B40: Depreciation | D40: 175 | E40: =D40 -> 175 | F40: (1 for line)
B41: Value 31 March Year 5 | C41: =C38-C39 -> 2000 | D41: =D38-D39+D40 -> 425 | E41: =C41-D41 -> 1575 | F41: (1 for line)
B43: Property | C43: 8000 | D43: =C43*-8% -> -640 | E43: =C43-D43 -> 8640 | F43: (1 for line)
...

Sheet Q2 PART A
A1: Question | B1: Expected response(s) | I1: Max mark | J1: Additional Guidance
A2: 2A. (a) | C2: January | E2: February | G2: March | I2: 3
B3: Opening inventory | C3: 1000 | E3: 1100 | G3: 300 | H3: 2 | J3: Award 1 mark for correctly entering January as 1,000; second mark for both February and March correctly entered.
B4: Production | C4: 4600 | E4: 5000 | G4: 5100
C5: =C3+C4 -> 5600 | E5: =E3+E4 -> 6100 | G5: =G3+G4 -> 5400
B6: Sales | C6: 4500 | E6: 5800 | G6: 5000
B7: Closing inventory | C7: =C5-C6 -> 1100 | E7: =E5-E6 -> 300 | G7: =G5-G6 -> 400 | H7: 1
A9: 2A. (b) | B9: Marginal Costing Statement | I9: 10 | J9: Inventories are consequential on answer to part (a).
C11: January | E11: February | G11: March
C12: £ | E12: £ | G12: £
B13: Sales | C13: =56*C6 -> 252000 | E13: =56*E6 -> 324800 | G13: =56*G6 -> 280000 | H13: 1 for line
B15: Opening inventory | C15: =C3*(26+8+4) -> 38000 | E15: =E3*(26+8+4) -> 41800 | F15: * | G15: =G3*(26+8+4) -> 11400 | H15: * | J15: * The closing inventory marks for Jan & Feb are for having both these and their corresponding opening inventories correct.
B17: Materials | C17: =8*C4 -> 36800 | E17: =8*E4 -> 40000 | G17: =8*G4 -> 40800
B18: Labour | C18: =C4*26 -> 119600 | E18: =E4*26 -> 130000 | G18: =G4*26 -> 132600
B19: Overheads | C19: =4*C4 -> 18400 | E19: =4*E4 -> 20000 | G19: =4*G4 -> 20400
C20: =SUM(C17:C19) -> 174800 | D20: 1** | E20: =SUM(E17:E19) -> 190000 | F20: 1** | G20: =SUM(G17:G19) -> 193800 | H20: 1** | J20: ** Where total variable overhead line is missing, or contains opening inventory figure, award mark for correct insertion of relevant individual data.
B22: Closing inventory | C22: =C7*38 -> 41800 | D22: 1 | E22: =E7*38 -> 11400 | F22: 1 | G22: =G7*38 -> 15200 | H22: 1
B23: Production costs | C23: =C15+C20-C22 -> 171000 | E23: =E15+E20-E22 -> 220400 | G23: =G15+G20-G22 -> 190000
B24: Contribution | C24: =C13-C23 -> 81000 | E24: =E13-E23 -> 104400 | G24: =G13-G23 -> 90000 | H24: 1 for line*** | J24: *** Lines must be labelled for marks to be awarded.
B25: Fixed costs | C25: 7400 | E25: 7300 | G25: 7800 | H25: 1 for line***
B26: Profit | C26: =C24-C25 -> 73600 | E26: =E24-E25 -> 97100 | G26: =G24-G25 -> 82200 | H26: 1 for line***
A28: 2A. (c) | B28: Absorption Costing Statement | I28: 15 | J28: Inventories are consequential on answer to part (a).
C30: January | E30: February | G30: March
C31: £ | E31: £ | G31: £
B32: Sales | C32: =56*C6 -> 252000 | E32: =56*E6 -> 324800 | G32: =56*G6 -> 280000 | H32: 1 for line
B34: Opening inventory | C34: =C3*$C$57 -> 39500 | D34: 1 | E34: =E3*$C$57 -> 43450 | F34: ** | G34: =G3*$C$57 -> 11850 | H34: **
B36: Materials | C36: 36800 | E36: 40000 | G36: 40800
B37: Labour | C37: =C4*26 -> 119600 | E37: =E4*26 -> 130000 | G37: =G4*26 -> 132600 | H37: 1
B38: Variable overheads | C38: =4*C4 -> 18400 | E38: =4*E4 -> 20000 | G38: =4*G4 -> 20400
B39: Fixed overheads | C39: =$C$56*C4 -> 6900 | D39: 1 | E39: =$C$56*E4 -> 7500 | F39: * | G39: =$C$56*G4 -> 7650 | H39: *1 | J39: *1 for Jan, 1 for Feb and Mar
C40: =SUM(C36:C39) -> 181700 | E40: =SUM(E36:E39) -> 197500 | G40: =SUM(G36:G39) -> 201450
B42: Closing inventory | C42: =C7*$C$57 -> 43450 | D42: **1 | E42: =E7*$C$57 -> 11850 | F42: ** | G42: =G7*$C$57 -> 15800 | H42: **1 | J42: **1 for Jan Cl Inv, 1 for Op In and Cl Inv in Feb and Mar
B43: Production costs | C43: =C6*$C$57 -> 177750 | E43: =E6*$C$57 -> 229100 | G43: =G6*$C$57 -> 197500
C44: =C32-C43 -> 74250 | E44: =E32-E43 -> 95700 | G44: =G32-G43 -> 82500 | H44: 1 for line
B45: Over/under | C45: =IF(C39<7400,"under","over") -> under | E45: =IF(E39<7300,"under","over") -> over | G45: =IF(G39<7800,"under","over") -> under | H45: 1 for line | J45: Omission of a clear label as to under/over absorbed will accrue a maximum of 3 out of 4 marks.
C46: =C39-7400 -> -500 | D46: 1 | E46: =E39-7300 -> 200 | F46: 1 | G46: =G39-7800 -> -150 | H46: 1
J47: Accept figures without negative symbol or brackets only where under or over absorption is clearly stated.
B48: Profit | C48: =C44+C46 -> 73750 | D48: 1 | E48: =E44+E46 -> 95900 | F48: 1 | G48: =G44+G46 -> 82350 | H48: 1
B51: CPU working | C51: £
B52: Materials | C52: 8
...

Sheet Q2 PART B
A1: Question | B1: Expected response(s) | G1: Max mark | H1: Additional Guidance
A2: 2B. (a) | B2: Total Labour Cost Var = (Labour Efficiency Var – Labour Rate Var) | G2: 2 | H2: 1 mark for calculation
H3: 1 mark for favourable indication
B4: £3,500 A = (Labour Efficiency Var – 15,500 A)
B6: Labour Efficiency Var = 12,000 1 Favourable 1
A8: 2B. (b) | B8: Using Total Labour Cost Variance: | G8: 3
B10: (Standard Rate × Standard Total Hours) – Actual Cost = Variance
B12: Standard Hours = 8,000 units x 4 hours = | D12: =8000*4 -> 32000 | E12: hours | F12: 1
B14: £12 x 32,000 hours - Actual Cost = £3,500 A
B16: £384,000 1 – Actual Cost = £3,500 A
B18: Actual Labour Cost = | C18: =384000+3500 -> 387500 | D18: 1
A20: 2B. (c) | B20: Using Labour Efficiency Variance: | G20: 2
B22: Difference in Hours × Standard Rate = Variance
B24: Difference in Hours = 12,000 F / £12 = | D24: =12000/12 -> 1000 | E24: hours | F24: 1
B26: As it is a favourable variance, Actual Hours are lower than Standard Hours
B28: 32,000 – 1,000 = | C28: =D12-D24 -> 31000 | D28: hours | E28: 1
A30: 2B. (d) | B30: Actual Labour Rate = Actual Labour Cost | G30: 1
B31: Actual Labour Hours
B33: 387500
B34: 31,000 hours = | C34: =B33/C28 -> 12.5 | D34: 1
A36: 2B. (e) | B36: Using VOH Expenditure Variance | G36: 2
B38: (Actual Labour Hours × VOH Rate) − Actual VOH Cost = Variance
B40: 31,000 x £8 − Actual VOH Cost = £7,750 F
B42: Therefore:
B43: 248,000 1 - Act VOH Cost = £7,750 F
B45: Act VOH Cost = £240,250 | C45: =248000-7750 -> 240250 | D45: 1

Sheet Q3 (a) - (b)
A1: Question | B1: Expected response(s) | G1: Max mark | H1: Additional Guidance
A2: 3. (a) | B2: Thomson plc | G2: 28
B3: Contract Account for year ended 31 December Year 1
C4: £000 | D4: £000 | E4: £000
B5: Work certified | E5: 1400 | F5: 1
B6: Work not certified | E6: 40 | F6: 1
E7: =E5+E6 -> 1440
B8: Materials on site 1 January | C8: 40 | H8: 1 mark for materials on site 1 January and Materials sent to site
B9: Materials sent to site | C9: 125 | F9: 1
C10: =C8+C9 -> 165
B11: Materials on site at 31 December | C11: 15 | D11: =C10-C11 -> 150 | F11: 1
B12: Materials from stores | C12: 27 | F12: 1
B13: Materials returned to stores | C13: 5 | D13: =C12-C13 -> 22 | F13: 1
B14: Sub-contracted direct material cost | D14: 8 | F14: 1
D15: =SUM(D11:D14) -> 180
B16: Labour on site | C16: 287 | F16: 1
B17: Direct Wages owing | C17: 32 | D17: =C16+C17 -> 319 | F17: 1
B18: Direct expenses | C18: 28 | F18: 1
B19: Less paid in advance | C19: 4 | D19: =C18-C19 -> 24 | F19: 1
B20: PRIME COST | D20: =D15+D17+D19 -> 523 | F20: 1* | H20: * Award mark only if correctly labelled
B21: Plant on site 1 Jan Year 1 | C21: 320 | F21: 1
B22: Less scrapped | C22: 5 | F22: 1
C23: =C21-C22 -> 315
B24: Plant at 31 December | C24: 205 | F24: 1 | H24: 1 mark for Plant at 31 December and Depreciation on plant
B25: Depreciation on plant | D25: =C23-C24 -> 110
B26: Loss on sale of plant (5-2) | D26: 3 | F26: 1
B27: Hire of special equipment | D27: 25 | F27: 1
B28: Establishment charges | D28: 457 | F28: 1
B29: Architects fees (1,400 x 3%) | D29: 42 | F29: 1
B30: Insurance | D30: 62 | F30: 1
B31: Maintenance of plant | D31: 14 | F31: 1
B32: Overheads (180 x 5%) | D32: 9 | F32: 2* | G32: All or nothing | H32: * watch for consequentiality
B33: Indirect wages | D33: 28 | E33: =SUM(D20:D33) -> 1273 | F33: 1
B34: NOTIONAL PROFIT | E34: =E7-E33 -> 167
B35: Transfer to Inc Statement (167 (1) x 1,400/2,000 (1)) | E35: =167*1400/2000 -> 116.9 | F35: 2
B36: Profit retained C/F (167 – 116.9) | E36: =E37-E35 -> 50.1 | F36: 1
E37: =E34 -> 167
B38: L/A/E (1)
A40: 3. (b) | B40: Describe what is meant by the term 'establishment charges'. | G40: 2
B41: Establishment charges cover preparing a contract site for the work to begin. 1 | H41: An example can be awarded a development mark.
...

Sheet Q4 (a) - (b)
A1: Question | B1: Expected response(s) | K1: Max mark | M1: Additional Guidance
A2: 4. (a) (i) | B2: Goodwill calculation | K2: 3
B3: Percentage purchased | C3: 0.65 | D3: x | E3: 40000 | H3: = | I3: =C3*E3 -> 26000
B4: Amount paid | C4: 2 | D4: x | E4: =I3 -> 26000 | H4: = | I4: =E4*C4 -> 52000 | J4: 1
B5: Value Taken Over | C5: =E3 -> 40000 | D5: + | E5: 2000 | F5: + | G5: 1000 | H5: = | I5: =C5+E5+G5 -> 43000
C6: =I5 -> 43000 | D6: x | E6: =C3 -> 0.65 | H6: = | I6: =C6*E6 -> 27950 | J6: 1
B7: Goodwill | E7: =I4 -> 52000 | F7: - | G7: =I6 -> 27950 | H7: = | I7: =E7-G7 -> 24050 | J7: 1
A9: 4. (a) (ii) | B9: Non-controlling interest | E9: =I5 -> 43000 | F9: x | G9: =1-C3 -> 0.35 | H9: = | I9: =E9*G9 -> 15050 | J9: 1 | K9: 1
A11: 4. (b) (i) | B11: Post-acquisition profits | K11: 2
B12: Balance @ Consol SFP date | E12: 8480
B13: Value @ acquisition | E13: =G5 -> 1000
B14: Profits | E14: =E12-E13 -> 7480 | H14: 1
B15: Percentage owned | D15: x | E15: =E6 -> 0.65 | F15: = | G15: =E14*E15 -> 4862 | H15: 1
A17: 4. (b) (ii) | B17: Unrealised profits | K17: 2
B18: Cost of Sales | E18: 2100
B19: Mark-up | D19: x | E19: 0.5 | F19: = | G19: =E18*E19 -> 1050 | H19: 1
B20: Selling price to Subsidiary | G20: =E18+G19 -> 3150
B21: Profit | G21: =G19 -> 1050
B22: Goods unsold | G22: 0.6 | H22: 1
B23: Unrealised profits | G23: =G21*G22 -> 630
A25: 4. (b) (iii) | B25: Non-controlling interest @ Consol SFP Date
B26: Value @ Consol SFP Date | E26: 50480 | F26: x | G26: =1-E15 -> 0.35 | I26: =E26*G26 -> 17668 | J26: 1 | K26: 1
A28: 4. (b) (iv) | B28: Cash in Transit | K28: 1
B29: Owed to Parent | E29: 3200
B30: Owed by Subsidiary | E30: 2400
B31: Cash in Transit | E31: =E29-E30 -> 800 | G31: 1
A33: 4. (b) (v) | B33: Retained Earnings | K33: 3
B34: Holding Co Retained earnings | I34: 32300
B35: Post-acquisition profits | H35: + | I35: =G15 -> 4862 | J35: 1
B36: Unrealised profits | H36: - | I36: =G23 -> 630 | J36: 1
B37: Goodwill written off | E37: =I7 -> 24050 | F37: x | G37: 0.1 | H37: - | I37: =E37*G37 -> 2405 | J37: 1
I38: =I34+I35-I36-I37 -> 34127

Sheet Q4 (c) - (d)
A1: Question | B1: Expected response(s) | F1: Max mark | G1: Additional Guidance
A3: 4. (c) | B3: Consolidated Statement of Financial Position as at 31 December Year 4 | F3: 15
B4: Non-current Assets | C4: £ | D4: £
B5: Tangible (327,000+58,000) | D5: 385000 | E5: 1
B6: Goodwill (24,050 - 2,405) | D6: =24050-2405 -> 21645 | E6: 1
D7: =D5+D6 -> 406645
B8: Current Assets
B9: Inventory (22,400+9,700-630) | C9: 31470 | E9: 2
B10: Trade Receivables (6,200+3,800) | C10: 10000 | E10: 1
B11: Cash and Cash Equivalents (7,660+800-640) | C11: 7820 | D11: =SUM(C9:C11) -> 49290 | E11: 2
B12: Total Assets | D12: =D11+D7 -> 455935
B13: Current Liabilities
B14: Trade Payables (5,200+5,560) | C14: 10760 | E14: 1
B15: Other Payables (960+420) | C15: 1380 | E15: 1
C16: 12140
B17: Non-current Liabilities
B18: 15% Debentures (50,000+12,000) | C18: 62000 | E18: 1
B19: Total Liabilities | D19: =C16+C18 -> 74140
B20: Net Assets | D20: =D12-D19 -> 381795
B22: Equity
B23: Ordinary Shares of £1 each | D23: 300000 | E23: 1
B24: Share Premium | D24: 30000 | E24: 1
B25: Retained Earnings | D25: ='Q4 (a) - (b)'!I38 -> 34127 | E25: 1
B26: Non-controlling interest | D26: ='Q4 (a) - (b)'!I26 -> 17668 | E26: 1
D27: =SUM(D23:D26) -> 381795
B28: Labels/no extraneous/arithmetic correct (L/E/A) | E28: 1
A30: 4. (d) | B30: Describe the purpose of a Statement of Cash Flow. | F30: 2
B31: To show the actual movements of cash into and out of the business over the accounting period. | E31: 1 | G31: Any 2 for 2 marks.
B32: To supplement the Income Statement and Statement of Financial Position, as they do not provide sufficient information on movement of cash over the accounting period. | E32: 1
B33: To show the increase or decrease in cash and cash equivalents. | E33: 1
B34: Information on liquidity of the business. | E34: 1
B35: Conforms with IAS1 and IAS7. | E35: 1
B36: Assists stakeholders who make decisions, as it shows how cash is generated and absorbed. | E36: 1
