Workbook

Sheet Q1 PART A Instructions
A1: Question 1. PART A (a) – General Instructions
A3: • Markers should approach question by marking transactions sequentially in date order (mark entries for 2 May first, then mark 3 May etc).
A5: • Mark the starting point first, then ask yourself ‘What would I expect to see next’? (See next page for starting points)
A7: • If no starting point - then mark as per solution.
A8: If wrong starting point (eg Molly Chambers acc opened instead of Purchases on 3 May) then mark consequentially (except for 13 May).
A10: • In transactions with VAT:
B11: - If FULL AMOUNT (or higher amount) in Purchases, Sales, Equipment, Sales Returns (eg Equipment Acc on 7 May has £12,000 Dr) - mark as per
B12: solution (This also applies if the starting point was wrong).
B14: - If VAT IS DEDUCTED from original starting point figure and on correct side, then mark consequentially. Eg. Equipment Acc on 7 May has £8,000 Dr
B15: then 0 Marks in Equipment Acc, 1 mark in VAT Acc for £2,000 Dr and 1 consequential mark for £10,000 Cr in Tech2U Acc. (2/3 marks overall)
B16: However, if original entry with VAT deducted is on the wrong side mark then mark as per solution.
B18: - If VAT is CALCULATED INCORRECTLY then mark consequentially eg Equipment Acc on 7 May has £10,000 Dr and VAT Acc has been
B19: incorrectly calculated as £1,000 Dr, then £11,000 in Tech2U Acc would be awarded 1 consequential mark (2/3 marks overall)
B21: - If there is NO VAT calculation and it is just a 2 entry transaction then 2 out of 3 marks may be awarded eg Equipment Acc on 7 May
B22: has £10,000 Dr then accept £12,000 or £10,000 Cr in Tech2U Acc for 1 consequential mark (as long as £2,000 VAT does not appear anywhere).
B24: - Amounts can be split. Eg 3 May KCM Acc may show separate entries of £35,000 and £7,000 instead of one entry of £42,000
B25: This is acceptable
A27: • Apply consequentiality as to which side of the ledger entries are on. Therefore, if a Purchase is incorrectly entered on the Credit side, this
A28: would be marked as incorrect. However if the VAT was also on the Credit Side and the supplier on the Debit Side this would be consequentially
A29: correct. Taking this approach may mean that some entries which are correct as per solution, will be marked as consequentially incorrect.
A31: • Consequentiality is not applied to the figures contained within a transaction. The figures are to be marked as per solution (with the
A32: exception of the instances highlighted above.)
A34: • If dates/nomenclature/balance MISSING - do not award (DNA) mark (up to a maximum of 2 marks)
A35: If dates/nomenclature/balance WRONG - Ignore
A37: • If an entry has been put into the wrong account, it does not gain an award.
A39: • If there are any extra entries as part of a transaction, apply the +/- rule.
A41: Taking the transaction on 3 May as an example, if a candidate enters £35,000 Dr in the Purchases Acc and also enters £35,000 in a Molly
A42: Chambers Acc (with the VAT and Supplier Accounts being correct), they would be awarded 2 marks over the transaction instead of 3.
A44: • For Account names, accept "Expenses" for Office Expenses, "Sales" for Sales Revenue, and "Returns" for Purchases/Sales Returns
... A47: The following starting points in a transaction should be used:
A49: 45779 | B49: Start with entry in Bank Acc. Then look at Equity Acc.
A50: 45780 | B50: Start with entry in Purchases Acc. Look at VAT next. It should follow the Dr or Cr entry of the first figure. Then, look at KCM Supplies Acc.
A51: 45781 | B51: Start with entry in Bank Acc. Then look at Cash Acc.
A52: 45782 | B52: Start with entry in Bank Acc. Then look at Loan Acc.
A53: 45784 | B53: Start in Equipment Acc. Look at VAT next. It should follow the Dr or Cr entry of the first figure. Then, look at Tech 2U Account.
A54: 45785 | B54: Start with entry(s) in Sales Acc. Look at VAT next. It should follow Dr or Cr entry of first figure. Then, look at Bank/Dodson & Sons.
B56: In Sales Revenue Acc, if 2 entries are shown they must total £15,000 Cr for mark. If one is debit and one credit - 0 marks but can
B57: award £3,000 Cr in VAT. If 2 VAT entries - they must total £3,000 Cr for mark.
B59: If candidate has only done 1 of the 2 transactions in Sales Revenue it scores 0 in Sales Revenue but can gain 1 mark in VAT Acc eg:
B60: Sales Rev Acc | D60: £10,500 Cr - 0 Marks | H60: OR | I60: Sales Rev Acc | K60: £4,500 Cr - 0 Marks
...

Sheet Q1 PART A
A1: Question | B1: Expected Response | H1: Marks | L1: Expected Response | R1: Marks
A2: 1. A (a) | B2: Bank (Cash Equivalents) | D2: Dr | E2: Cr | F2: Balance | L2: Equipment | N2: Dr | O2: Cr | P2: Balance
D3: £ | E3: £ | F3: £ | N3: £ | O3: £ | P3: £
B4: 2 May | C4: Equity | D4: 50000 | F4: =D4 -> 50000 | G4: dr | H4: (1) | L4: 7 May | M4: Tech2U | N4: 10000 | P4: =N4-O4 -> 10000 | Q4: dr | R4: (1)
B5: 4 May | C5: Cash | E5: 1500 | F5: =F4+D5-E5 -> 48500 | G5: dr | H5: (1)
B6: 5 May | C6: Loan | D6: 20000 | F6: =F5+D6-E6 -> 68500 | G6: dr | H6: (1) | L6: TECH 2U
B7: 8 May | C7: Sales Revenue & Vat | D7: 5400 | F7: =F6+D7-E7 -> 73900 | G7: dr | H7: (1) | N7: Dr | O7: Cr | P7: Balance
N8: £ | O8: £ | P8: £
B9: VAT | D9: Dr | E9: Cr | F9: Balance | L9: 7 May | M9: Equipment + VAT | O9: 12000 | P9: 12000 | Q9: cr | R9: (1)
D10: £ | E10: £ | F10: £
B11: 3 May | C11: KCM Supplies | D11: 7000 | F11: =D11 -> 7000 | G11: dr | H11: (1) | L11: Sales Revenue
B12: 7 May | C12: Tech 2U | D12: 2000 | F12: =F11+D12-E12 -> 9000 | G12: dr | H12: (1) | N12: Dr | O12: Cr | P12: Balance
B13: 8 May | C13: Bank/Dodson & Sons | E13: 3000 | F13: =F12+D13-E13 -> 6000 | G13: dr | H13: (1) | N13: £ | O13: £ | P13: £
B14: 13 May | C14: Cash | D14: 15 | F14: =F13+D14-E14 -> 6015 | G14: dr | H14: (1) | L14: 8 May | M14: Bank/Dodson & Sons | O14: 15000 | P14: =N14+O14 -> 15000 | Q14: cr | R14: (1)
B15: 15 May | C15: KCM Supplies | E15: 70 | F15: =F14+D15-E15 -> 5945 | G15: dr | H15: (1)
L16: Dodson & Sons
B17: Equity | D17: Dr | E17: Cr | F17: Balance | N17: Dr | O17: Cr | P17: Balance
D18: £ | E18: £ | F18: £ | N18: £ | O18: £ | P18: £
B19: 2 May | C19: Bank | E19: 50000 | F19: =D19+E19 -> 50000 | G19: cr | H19: (1) | L19: 8 May | M19: Sales & Vat | N19: 12600 | P19: =N19+O19 -> 12600 | Q19: dr | R19: (1)
B21: Purchases | D21: Dr | E21: Cr | F21: Balance | L21: Office Expenses
D22: £ | E22: £ | F22: £ | N22: Dr | O22: Cr | P22: Balance
B23: 3 May | C23: KCM Supplies | D23: 35000 | F23: =D23+E23 -> 35000 | G23: dr | H23: (1) | N23: £ | O23: £ | P23: £
L24: 13 May | M24: Cash | N24: 75 | P24: =N24-O24 -> 75 | Q24: cr | R24: (1)
B25: KCM Supplies | D25: Dr | E25: Cr | F25: Balance
D26: £ | E26: £ | F26: £ | L26: Purchase Returns
B27: 3 May | C27: Purchases & Vat | E27: 42000 | F27: =E27 -> 42000 | G27: cr | H27: (1) | N27: Dr | O27: Cr | P27: Balance
B28: 15 May | C28: Purch Ret & Vat | D28: 420 | F28: =F27-D28 -> 41580 | G28: cr | H28: (1) | N28: £ | O28: £ | P28: £
L29: 15 May | M29: KCM Supplies | O29: 350 | P29: =N29+O29 -> 350 | Q29: cr | R29: (1)
B30: Cash | D30: Dr | E30: Cr | F30: Balance
D31: £ | E31: £ | F31: £ | L31: NOTE
B32: 4 May | C32: Bank | D32: 1500 | F32: =D32+E32 -> 1500 | G32: dr | H32: (1) | L32: Sales Revenue may be shown as | O32: Cr
B33: 13 May | C33: Off Expenses & Vat | E33: 90 | F33: =F32+D33-E33 -> 1410 | G33: dr | H33: (1) | L33: 8 May | M33: Bank | O33: 4500 | P33: (1)
L34: 8 May | M34: Dodson & Sons | O34: 10500
B35: Loan | D35: Dr | E35: Cr | F35: Balance
D36: £ | E36: £ | F36: £ | L36: VAT may be shown as | O36: Cr
B37: 5 May | C37: Bank | E37: 20000 | F37: =D37+E37 -> 20000 | G37: cr | H37: (1) | L37: 8 May | M37: Bank | O37: 900 | P37: (1)
L38: 8 May | M38: Dodson & Sons | O38: 2100

Sheet Q1 PART A (cont) & PART B
A1: Question | B1: Expected Response | J1: Max Mark | K1: Additional Guidance | P1: Year 2
A3: 1. PART A
A4: (b) | B4: • Can buy without need for cash/money in the bank or a loan (1) | J4: 2 | K4: Any 2 for one mark each.
B5: • Pay at a later date (1)
B6: • Pay in instalments (1) | K6: Must be benefit to Molly (the buyer)
B7: • Time to sell before paying (1) | K7: not the business (seller).
B8: • Improves cash flow (1)
B9: • Improves credit score (1) | K9: DNA any reference to discounts as it
B10: • Allows Molly to gain interest as she has money in bank for longer (1) | K10: is not specific to buying on credit.
A13: (c) | B13: • Invoice | J13: 1 | K13: Do not accept Copy Invoice.
A17: (d) | B17: • Non Current Liabilities | J17: 1 | K17: Accept Long Term Liabilities.
A21: 1. PART B
C22: Error | D22: Effect | F22: Amount | J22: 9 | K22: If there is a negative final total, then
C23: 1 | D23: Increase | F23: 3000 | G23: (1) | K23: it must be indicated by minus sign
C24: 2 | D24: No Effect | G24: (1) | K24: or word "Decrease" to gain award.
C25: 3 | D25: Decrease | F25: -400 | G25: (1)
C26: 4 | D26: No Effect | G26: (1)
C27: 5 | D27: Increase | E27: (1) | F27: 120 | G27: (1) | K27: Amount column overrides Effect
C28: 6 | D28: Increase | E28: (1) | F28: 90 | G28: (1) | K28: column eg for Error 2 if candidate
C29: Total | F29: =SUM(F23:F28) -> 2810 | G29: (1) | K29: has "Decrease" and 0 in each column
K30: then award mark for the 0 amount.

Sheet Q2 (a)
A1: Question | B1: Expected Response | I1: Max Mark | J1: Additional Guidance
A2: 2. (a) | B2: Cash Budget (P) for Rustic Comfort for April - June Year 2 | H2: 1 | I2: 32 marks | J2: • For heading/layout mark:
J3: - just needs words ‘Cash Budget’ and Apr, May, June columns
C4: April | E4: May | G4: June | J4: - must have headings for ‘money in’ and 'money out'
B5: Opening Balance (P) | C5: ='Q2 Data'!B1 -> 18000 | E5: =C22 -> 34450 | G5: =E22 -> 43200 | H5: 1 for line | J5: - must have Op & Cl Balance labels
B6: Receipts (P) | J6: - no extraneous items, ie units
B7: Credit Sales (£150) | C7: ='Q2 Data'!B4*'Q2 Data'!$B$6*'Q2 Data'!$B$8 -> 45000 | D7: 3 | E7: ='Q2 Data'!C4*'Q2 Data'!$B$6*'Q2 Data'!$B$8 -> 54000 | F7: 1 | G7: ='Q2 Data'!D4*'Q2 Data'!$B$6*'Q2 Data'!$B$8 -> 58500 | H7: 1
B8: Cash Sales (£120) | C8: ='Q2 Data'!$B$6*'Q2 Data'!$B$7*'Q2 Data'!$B$9*'Q2 Data'!C4 -> 28800 | D8: 3 | E8: ='Q2 Data'!$B$6*'Q2 Data'!$B$7*'Q2 Data'!$B$9*'Q2 Data'!D4 -> 31200 | F8: 1 | G8: ='Q2 Data'!$B$6*'Q2 Data'!$B$7*'Q2 Data'!$B$9*'Q2 Data'!E4 -> 38400 | H8: 1 | J8: • Accept Opening Balance added to Receipts subtotal eg
B9: Sale of Delivery Vans | C9: ='Q2 Data'!B21*2 -> 9000 | D9: 1 | J9: April May June
B10: Total Receipts | C10: =SUM(C7:C9) -> 82800 | E10: =SUM(E7:E9) -> 85200 | G10: =SUM(G7:G9) -> 96900 | J10: 100,800 119,650 140,100
B12: Payments (P) | J12: • If Sales units used for production calcs - no award each time
B13: Materials | C13: ='Q2 Data'!B12*'Q2 Data'!$B$14 -> 24800 | D13: 2 | E13: ='Q2 Data'!C12*'Q2 Data'!$B$14 -> 28000 | G13: ='Q2 Data'!D12*'Q2 Data'!$B$14 -> 30000 | H13: 1
B14: Labour | C14: ='Q2 Data'!C12*'Q2 Data'!$B$15 -> 25200 | D14: 1 | E14: ='Q2 Data'!D12*'Q2 Data'!$B$15 -> 27000 | F14: 1 | G14: ='Q2 Data'!E12*'Q2 Data'!$B$15 -> 28800 | H14: 1 | J14: • Credit Sales for April:
B15: Overtime | E15: ='Q2 Data'!$F$16*'Q2 Data'!$D$16*'Q2 Data'!$B$16 -> 900 | G15: ='Q2 Data'!$F$16*'Q2 Data'!$D$16*'Q2 Data'!$B$16 -> 900 | H15: 2 | J15: 500 (1)*60% (1) * £150 (1) = 45,000
B16: Variable Overheads | C16: ='Q2 Data'!D12*'Q2 Data'!$B$17 -> 7500 | D16: 2 | E16: ='Q2 Data'!E12*'Q2 Data'!$B$17 -> 8000 | G16: ='Q2 Data'!F12*'Q2 Data'!$B$17 -> 9500 | H16: 1 | J16: See Alternative Solution Sheet for consequentiality
B17: Fixed Costs | C17: ='Q2 Data'!B19 -> 4000 | E17: ='Q2 Data'!B19 -> 4000 | F17: 1 | G17: =E17*1.1 -> 4400 | H17: 1
B18: New Delivery Vans | C18: ='Q2 Data'!B23*0.1 -> 2600 | D18: 1 | E18: =('Q2 Data'!$B$23-'Q2 (a)'!$C$18)/4 -> 5850 | G18: =('Q2 Data'!$B$23-'Q2 (a)'!$C$18)/4 -> 5850 | H18: 2 | J18: • Cash Sales for April:
B19: Rent | C19: ='Q2 Data'!B25 -> 2250 | D19: 1 | E19: =$C$19*1.2 -> 2700 | G19: =$C$19*1.2 -> 2700 | H19: 1 | J19: 600 (1)*40% (1) * (150-30 = 120 (1)) = 28,800
B20: Total Payments | C20: =SUM(C13:C19) -> 66350 | E20: =SUM(E13:E19) -> 76450 | G20: =SUM(G13:G19) -> 82150 | J20: See Alternative Solution Sheet for consequentiality
B22: Closing Balance (P) | C22: =C5+C10-C20 -> 34450 | E22: =E5+E10-E20 -> 43200 | G22: =G5+G10-G20 -> 57950 | H22: 1 | J22: • Overtime is 2 marks for BOTH figures of 900 in May & June
J23: If there is 1 error across line , 1 mark can be awarded eg:
J24: - 1 figure of 900 shown in May or June - 1 mark
J25: - 1 figure of 900 shown in April - 0 marks
J26: - 2 figures of 36, 50, or 450 shown in May & June - 1 mark
J27: - 2 figures of 36, 50, or 450 shown in April & May - 0 marks
J28: - If any other wrong figure(s) and no working - 0 marks.
J30: • April's Material and Variable Overheads is 2 marks all or nothing
J32: • New Van for May & June is consequential on deposit in April
J33: • If May incorrect, June is consequential if same figure - 1 mark
J35: • If done as a list, do not award marks for:
J36: - Heading/Layout - Opening Balance - Closing Balance
J37: - Sale of Delivery Van - First mark of Fixed Costs
J38: - First mark of Rent (DNA 6 marks in total).

Sheet Q2 Data
A1: Op Balance | B1: 18000
A3: Sales | B3: March | C3: April | D3: May | E3: June | F3: July
B4: 500 | C4: 600 | D4: 650 | E4: 800 | F4: 900
A6: Credit SP | B6: 150
A7: Cash Disc | B7: 0.8
A8: Cr Sales | B8: 0.6
A9: Cash Sales | B9: 0.4
A11: Production | B11: March | C11: April | D11: May | E11: June | F11: July
B12: 620 | C12: 700 | D12: 750 | E12: 800 | F12: 950
A14: Material | B14: 40
A15: Labour | B15: 36
A16: OT | B16: 18 | C16: OT Hours | D16: 25 | E16: Employ | F16: 2
A17: Var OH | B17: 10
A19: Fixed Costs | B19: 4000
A21: Old Vans | B21: 4500
A23: New Vans | B23: 26000
A25: Rent | B25: 2250

Sheet Q2 Alt sol
B1: April | D1: May | F1: June
A3: Credit | B3: =A63*$B$71*$B$66 -> 45000 | C3: (3) | D3: =B63*$B$71*$B$66 -> 54000 | E3: (1) | F3: =C63*$B$71*$B$66 -> 58500 | G3: (1) | H3: Correct Figure
A4: Sales | B4: =C63*$B$71 -> 97500 | C4: (1) | D4: =D63*$B$71 -> 120000 | E4: (1) | F4: =E63*$B$71 -> 135000 | G4: (1) | H4: Went forward a month AND didn't multiply by 60%
B5: =B63*$B$71 -> 90000 | C5: (1) | D5: =C63*$B$71 -> 97500 | E5: (1) | F5: =D63*$B$71 -> 120000 | G5: (1) | H5: Didn’t go back a month AND didn't multiply by 60%
B6: =C63*$B$70 -> 78000 | C6: (0) | D6: =D63*$B$70 -> 96000 | E6: (1) | F6: =E63*$B$70 -> 108000 | G6: (1) | H6: Went forward a month and discounted by 20% and didn't multiply by 60%
B7: =A63*$B$71 -> 75000 | C7: (2) | D7: =B63*$B$71 -> 90000 | E7: (1) | F7: =C63*$B$71 -> 97500 | G7: (1) | H7: Didn't multiply by 60%
B8: =B63*$B$70 -> 72000 | C8: (0) | D8: =C63*$B$70 -> 78000 | E8: (1) | F8: =D63*$B$70 -> 96000 | G8: (1) | H8: Didn’t go back a month and discounted by 20% and didn't multiply by 60%
B9: =A63*$B$70 -> 60000 | C9: (1) | D9: =B63*$B$70 -> 72000 | E9: (1) | F9: =C63*$B$70 -> 78000 | G9: (1) | H9: Didn't multiply by 60% AND dicounted by 20%
B10: =C63*$B$66*$B$71 -> 58500 | C10: (2) | D10: =D63*$B$66*$B$71 -> 72000 | E10: (1) | F10: =E63*$B$66*$B$71 -> 81000 | G10: (1) | H10: Went forwards instead of back a month
B11: =B63*$B$66*$B$71 -> 54000 | C11: (2) | D11: =C63*$B$66*$B$71 -> 58500 | E11: (1) | F11: =D63*$B$66*$B$71 -> 72000 | G11: (1) | H11: Didn't go back a month
B12: =C63*$B$70*$B$66 -> 46800 | C12: (1) | D12: =D63*$B$70*$B$66 -> 57600 | E12: (1) | F12: =E63*$B$70*$B$66 -> 64800 | G12: (1) | H12: Went forward a month and discounted by 20%
B13: =B63*$B$70*$B$66 -> 43200 | C13: (1) | D13: =C63*$B$70*$B$66 -> 46800 | E13: (1) | F13: =D63*$B$70*$B$66 -> 57600 | G13: (1) | H13: Didn’t go back a month and discounted by 20%
B14: =C63*$B$71*$B$65 -> 39000 | C14: (1) | D14: =D63*$B$71*$B$65 -> 48000 | E14: (1) | F14: =E63*$B$71*$B$65 -> 54000 | G14: (1) | H14: Went forward a month AND multiplied by 40% instead of 60%
B15: =A63*$B$70*$B$66 -> 36000 | C15: (2) | D15: =B63*$B$70*$B$66 -> 43200 | E15: (1) | F15: =C63*$B$70*$B$66 -> 46800 | G15: (1) | H15: Discounted by 20%
B16: =B63*$B$71*$B$65 -> 36000 | C16: (1) | D16: =C63*$B$71*$B$65 -> 39000 | E16: (1) | F16: =D63*$B$71*$B$65 -> 48000 | G16: (1) | H16: Didn’t go back a month AND multiplied by 40% instead of 60%
B17: =C63*$B$70*$B$65 -> 31200 | C17: (0) | D17: =D63*$B$70*$B$65 -> 38400 | E17: (1) | F17: =E63*$B$70*$B$65 -> 43200 | G17: (1) | H17: Went forward a month and discounted by 20% and multiplied by 40%
B18: =A63*$B$71*$B$65 -> 30000 | C18: (2) | D18: =B63*$B$71*$B$65 -> 36000 | E18: (1) | F18: =C63*$B$71*$B$65 -> 39000 | G18: (1) | H18: Multiplied by 40% instead of 60%
B19: =B63*$B$70*$B$65 -> 28800 | C19: (0) | D19: =C63*$B$70*$B$65 -> 31200 | E19: (1) | F19: =D63*$B$70*$B$65 -> 38400 | G19: (1) | H19: Didn’t go back a month and discounted by 20% and multiplied by 40%
B20: =A63*$B$65*$B$70 -> 24000 | C20: (1) | D20: =B63*$B$65*$B$70 -> 28800 | E20: (1) | F20: =C63*$B$65*$B$70 -> 31200 | G20: (1) | H20: Multiplied by 40% instead of 60% AND discounted by 20%
B21: =C63*$B$72 -> 19500 | C21: (0) | D21: =D63*$B$72 -> 24000 | E21: (0) | F21: =E63*$B$72 -> 27000 | G21: (1) | H21: Went forward a month and discounted by 80% and didn't multiply by 60%
B22: =B63*$B$72 -> 18000 | C22: (0) | D22: =C63*$B$72 -> 19500 | E22: (0) | F22: =D63*$B$72 -> 24000 | G22: (1) | H22: Didn’t go back a month and discounted by 80% and didn't multiply by 60%
B23: =A63*$B$72 -> 15000 | C23: (0) | D23: =B63*$B$72 -> 18000 | E23: (1) | F23: =C63*$B$72 -> 19500 | G23: (1) | H23: Didn't multiply by 60% AND dicounted by 80%
B24: =C63*$B$72*$B$66 -> 11700 | C24: (0) | D24: =D63*$B$72*$B$66 -> 14400 | E24: (1) | F24: =E63*$B$72*$B$66 -> 16200 | G24: (1) | H24: Went forward a month and discounted by 80%
B25: =B63*$B$72*$B$66 -> 10800 | C25: (0) | D25: =C63*$B$72*$B$66 -> 11700 | E25: (1) | F25: =D63*$B$72*$B$66 -> 14400 | G25: (1) | H25: Didn’t go back a month and discounted by 80%
B26: =A63*$B$72*$B$66 -> 9000 | C26: (1) | D26: =B63*$B$66*$B$72 -> 10800 | E26: (1) | F26: =C63*$B$66*$B$72 -> 11700 | G26: (1) | H26: Discounted by 80%
B27: =C63*$B$72*$B$65 -> 7800 | C27: (0) | D27: =D63*$B$72*$B$65 -> 9600 | E27: (0) | F27: =E63*$B$72*$B$65 -> 10800 | G27: (1) | H27: Went forward a month and discounted by 80% and multiplied by 40%
B28: =B63*$B$72*$B$65 -> 7200 | C28: (0) | D28: =C63*$B$72*$B$65 -> 7800 | E28: (0) | F28: =D63*$B$72*$B$65 -> 9600 | G28: (1) | H28: Didn’t go back a month and discounted by 80% and multiplied by 40%
B29: =A63*$B$65*$B$72 -> 6000 | C29: (0) | D29: =B63*$B$65*$B$72 -> 7200 | E29: (1) | F29: =C63*$B$65*$B$72 -> 7800 | G29: (1) | H29: Multiplied by 40% instead of 60% AND discounted by 80%
B32: April | D32: May | F32: June
A33: Cash | B33: 28800 | C33: (3) | D33: 31200 | E33: (1) | F33: 38400 | G33: (1) | H33: Correct figures
A34: Sales | B34: =B63*$B$70 -> 72000 | C34: (2) | D34: =C63*$B$70 -> 78000 | E34: (1) | F34: =D63*$B$70 -> 96000 | G34: (1) | H34: Didn't multiply by 40%
B35: =B63*$B$71*$B$65 -> 36000 | C35: (2) | D35: =C63*$B$71*$B$65 -> 39000 | E35: (1) | F35: =D63*$B$71*$B$65 -> 48000 | G35: (1) | H35: Didn't discount by 20%
B36: =B63*$B$66*$B$70 -> 43200 | C36: (2) | D36: =C63*$B$66*$B$70 -> 46800 | E36: (1) | F36: =D63*$B$66*$B$70 -> 57600 | G36: (1) | H36: Multiplied by 60% instead of 40% | M36: If candidate has shifted a month,
B37: =B63*$B$65*$B$72 -> 7200 | C37: (1) | D37: =C63*$B$65*$B$72 -> 7800 | E37: (1) | F37: =D63*$B$65*$B$72 -> 9600 | G37: (1) | H37: Discounted by 80% instead of discounting 20% | M37: DNA 1 more mark from marks shown.
B39: =B63*$B$71 -> 90000 | C39: (1) | D39: =C63*$B$71 -> 97500 | E39: (1) | F39: =D63*$B$71 -> 120000 | G39: (1) | H39: Didn't discount by 20% or multiply by 40%
B40: =B63*$B$71*$B$66 -> 54000 | C40: (1) | D40: =C63*$B$71*$B$66 -> 58500 | E40: (1) | F40: =D63*$B$71*$B$66 -> 72000 | G40: (1) | H40: Didn't discount by 20% and multiplied by 60%
B41: =B63*$B$66*$B$72 -> 10800 | C41: (0) | D41: =C63*$B$66*$B$72 -> 11700 | E41: (1) | F41: =D63*$B$66*$B$72 -> 14400 | G41: (1) | H41: Multiplied by 60% and discounted by 80%
B42: =B63*$B$72 -> 18000 | C42: (0) | D42: =C63*$B$72 -> 19500 | E42: (1) | F42: =D63*$B$72 -> 24000 | G42: (1) | H42: Didn't multiply by 40% and discounted by 80%
A45: Material | B45: 28000 | C45: (0) | D45: 30000 | F45: 32000 | G45: (1)
B46: 30000 | C46: (0) | D46: 32000 | F46: 38000 | G46: (1)
...

Sheet Q2 (b)
A1: Question | B1: Expected Response | I1: Max Mark | J1: Additional Guidance
A2: 2. (b) (i) | B2: The level of output where a business makes neither a profit nor a loss.
B3: The point where all costs are covered.
B4: Total Costs equal Sales Revenue. | I4: 1 Mark
A6: 2. (b) (ii) | B6: The number of units above the Break Even point.
B7: The amount in sales value above the Break Even point. | I7: 1 Mark
A9: 2. (b) (iii) | B9: Costs not directly linked to production of a product/department/cost centre. | J9: DNA "Costs which are not Direct" on its own - must have
B10: Ignore any reference to examples. | I10: 1 Mark | J10: reference to production.

Sheet Q3 - Instructions
A1: Question 3 - General Instructions
A3: 1. | B3: Nomenclature
B5: To gain award, figures must have reasonable nomenclature eg DNA layout award for:
B7: • Provision for Bad Debts labelled as Trade Receivables
B8: • Provision for Bad Debts labelled just as “Bad Debts”
B9: • Provision for Depreciation labelled as Equipment (Depreciation on its own is acceptable)
B11: NOTE – if figure didn’t gain award in first instance, then ignore wrong nomenclature in the layout mark.
B13: If wrong/missing nomenclature on individual entries – DNA award to max of 1. Ignore thereafter.
A15: 2. | B15: For a mark to be awarded it must be the correct effect (a wrong effect like adding Closing Inventory would get no award - but does
B16: not affect the Arithmetic mark).
A18: 3. | B18: Layout
B20: • Need to have "for the year ended" with date (must have year). Name of firm not needed.
B22: • Layout must have inclusion of ticked labels and no extraneous/SOFP labels.
B23: Although other headings are not required, do not award if they are clearly wrong (ie Less Expenses called Current Liabilities).
B25: • If candidate has made no attempt at calculating a Profit for the Year, then it is impossible for them to give the Profit for the Year label.
B26: In this instance award 1 mark for Layout for just having the Gross Profit label.
B28: • Accept Other Income before Expenses
A30: 4. | B30: Arithmetic
B32: For correct arithmetic, subtotals are treated correctly (eg if Cost of Sales added to Sales Revenue – DNA)
A34: 5. | B34: Extraneous
B36: • If there is only £2,000 for Provision for Depreciation in Income Statement then it is wrong, but not extraneous.
B37: • If there are 2 depreciation figures or 1 figure of £3,000 shown, then DNA depreciation mark. Again, £2,000 is not extraneous.
B39: • If there is more than 4 extraneous items in the Income Statement, then the following applies:
B40: - Mark the question as normal eg candidate has scored 14/15 and was not awarded the extraneous mark.
B41: - If the candidate has more than 4 extraneous items, then count up how many extraneous items they have eg 5 extraneous.
B42: - Divide the number of extraneous items by 2 and round down if needed eg 5 divided by 2 is 2 (rounded down)
B43: - Do not award the last 2 marks eg this candidate now scores 12/15
B45: Follow the table below:
B46: 5 extraneous | D46: DNA 2 marks and the extraneous award
B47: 6 extraneous | D47: DNA 3 marks and the extraneous award
B48: 7 extraneous | D48: DNA 3 marks and the extraneous award
B49: 8 extraneous | D49: DNA 4 marks and the extraneous award
B51: The following items are extraneous:
B52: - VAT | E52: - Equipment
B53: - Trade Payables | E53: - Cash & Cash Equivalents
B54: - Trade Receivables | E54: - Equity
B55: - Other Payables | E55: - Drawings
A57: 6. | B57: Layout & Arithmetic/Extraneous Awards
B59: To gain the "No Extraneous" award the candidate has to have completed at least 5 entries.
B61: To gain the Layout & Arithmetic award the candidate has to have completed at least 1 piece of arithmetic.

Sheet Q3
A1: Question | B1: Expected response | F1: Max Mark | G1: Additional guidance
A2: 3. | B2: Income Statement for Year ended 31 December Year 4 (P)
C3: £ | D3: £ | E3: £
B5: Sales Revenue | E5: 128000 | F5: 1
B7: LESS: COST OF SALES (P)
B8: Opening Inventory | D8: 8200 | E8: *
B9: ADD Purchases | C9: 60200 | F9: 1
B10: Less Purchases Returns | C10: 1200 | F10: 1
D11: =C9-C10 -> 59000
D12: =D8+D11 -> 67200
B13: ADD Carriage in | D13: 280 | F13: 1
D14: =D12+D13 -> 67480
B15: LESS Closing Inventory | D15: 4100 | E15: * | F15: 1 | G15: * 1 mark for both opening & closing inventory
B16: Cost of Sales | E16: =D14-D15 -> 63380
B17: GROSS PROFIT (P) | E17: =E5-E16 -> 64620
B18: Less Expenses
B19: General Expenses | D19: 30860 | F19: 1
B20: Rent (6000+2000) | D20: 8000 | F20: 2 | G20: Rent - accept 2,000, 4,000, 6,000 for 1 mark.
B21: Insurance (1500-250) | D21: 1250 | F21: 2 | G21: Insurance - accept 1,750 or 1,500 for 1 mark.
B22: Provision for Depreciation - Equipment (10,000 x 5%) | D22: 1000 | F22: 1 | G22: If 250 on its own it must be negative figure.
B23: Provision for Doubtful Debts (10,700 x 5%) | D23: 535 | F23: 1
E24: =SUM(D19:D23) -> 41645 | G24: Accept if adjustments detached but directly
E25: =E17-E24 -> 22975 | G25: below. If adjustments are not directly below
B26: ADD OTHER INCOME (P) | G26: then do not award adjustment marks.
B27: Commission Received | E27: 610 | F27: 1
B28: PROFIT FOR THE YEAR (P) | E28: =E25+E27 -> 23585
B30: Layout, headings (indicated by P) and arithmetic | F30: 1
B31: No extraneous items | F31: 1
F32: 15 Marks

Sheet Q4
A1: Question | B1: Expected Response | J1: Max Mark | K1: Additional Guidance | P1: Year 2
A3: 4. (a) | C3: Gross Profit Ratio | E3: =Q5 -> 68000 | F3: x 100 | K3: If % label missing – DNA once only. | P3: Sales Revenue | Q3: 200000
E4: =Q3 -> 200000 | G4: =E3/E4 -> 0.34 | H4: (1) | P4: Cost of Sales | Q4: 132000
P5: Gross Profit | Q5: =Q3-Q4 -> 68000
C6: Profit for the Year Ratio | E6: =Q7 -> 46000 | F6: x 100 | P6: Expenses | Q6: 22000
E7: =Q3 -> 200000 | G7: =E6/E7 -> 0.23 | H7: (1) | P7: Profit for the Year | Q7: =Q5-Q6 -> 46000
C9: Expenses Ratio | E9: =Q6 -> 22000 | F9: x 100
E10: =Q3 -> 200000 | G10: =E9/E10 -> 0.11 | H10: (1) | J10: 3
A13: 4. (b) (i) | C13: Sales | D13: =Q14 -> 240000 | K13: For remainder of question, ignore | P13: Year 3
D14: =Q15 -> 0.28 | K14: missing £ signs | P14: Sales Revenue | Q14: 240000
C15: Gross Profit | D15: =D13*D14 -> 67200 | E15: (1) | J15: 1 | P15: Gross Profit Ratio | Q15: 0.28
K16: If Year 2 figures used throughout (b)
K17: then no award each time.
A20: 4. (b) (ii) | C20: Sales | D20: - | E20: Gross Profit | F20: = | G20: Cost of Sales | K20: Answer may be consequential on GP figure | P20: Profit for the Year Ratio | Q20: 0.17
C21: =Q14 -> 240000 | D21: - | E21: =D15 -> 67200 | F21: = | G21: =C21-E21 -> 172800 | H21: (1) | J21: 1
A24: 4. (b) (iii) | C24: Sales | D24: =Q14 -> 240000 | P24: Return on Equity Employed | Q24: 0.3
D25: =Q20 -> 0.17 | P25: Trade Receivables Collection | Q25: 54.75 | R25: days
C26: Profit for the Year | D26: =D24*D25 -> 40800 | E26: (1) | J26: 1 | P26: Credit Sales | Q26: 0.8
A29: 4. (b) (iv) | C29: Gross Profit | D29: - | E29: PFY | F29: = | G29: Expenses | K29: Gross Profit and Profit for the Year figures may be consequential
C30: =D15 -> 67200 | D30: - | E30: =D26 -> 40800 | F30: = | G30: =C30-E30 -> 26400 | H30: (1) | J30: 1
A33: 4. (b) (v) | C33: Profit for the Year | D33: ÷ | E33: =Q24 -> 0.3 | F33: = | G33: Opening Equity | K33: Profit for the Year figure may be consequential The 2 mark award is all or nothing. Must divide PFY by 30%.
C34: =D26 -> 40800 | D34: ÷ | E34: =E33 -> 0.3 | F34: = | G34: =C34/E34 -> 136000 | H34: (2)
C37: OR
C39: =C34 -> 40800 | D39: X | E39: 100 | F39: = | G39: =C39*E39/E40 -> 136000 | H39: (2)
E40: 30 | J40: 2
A43: 4. (c) | C43: Credit Sales | K43: The second part of the answer is 2 marks all or nothing unless arithmetic error in calculation which can be awarded 1 mark.
C44: =Q14 -> 240000 | D44: X | E44: =Q26 -> 0.8 | F44: = | G44: =C44*E44 -> 192000 | H44: (1)
C46: =Q25 -> 54.75 | D46: X | E46: =G44 -> 192000 | F46: = | G46: =C46/C47*E46 -> 28800 | H46: (2)
C47: 365 | J47: 3
A51: 4. (d) (i) | C51: Gross Profit Ratio | K51: 1 mark for correct suggestion DNA – Sell more DNA - Higher Gross Profit
C52: · Increase Selling Price
C53: · Reduce Cost of Sales
C54: · Find a cheaper supplier | J54: 1
A57: 4. (d) (ii) | C57: Trade Receivables Collection Period | K57: 1 mark for correct suggestion
C58: · Offer cash/prompt payment discount
C59: · Reduce credit terms offered | K59: DNA - Trade Discount
C60: · Better credit control | J60: 1 | K60: "Offer Discounts" on its own - 0 marks
K61: must have some reference to "quicker"
K62: payments
K64: DNA increase/decrease amount of
...

Sheet Q5
A1: Question | B1: Expected Response | H1: Max Mark | I1: Additional Guidance
A3: 5. (a) | D3: Dr | F3: Cr
C4: Equipment | D4: 123000 | H4: 10
C5: Property | D5: 300000
C6: Sales Revenue | F6: 185100
C7: Purchases | D7: 98300
C8: Office Expenses | D8: 11100
C9: General Expenses | D9: 7900
C10: Cash & Cash Equivalents | D10: 23200 | I10: If candidate has not included the
C11: Drawings | D11: 16500 | I11: shaded figures in the Trial Balance
C12: VAT | F12: 6600 | I12: Totals, DNA mark for totals in (c).
C13: Heat & Light | D13: 9800 | E13: (1)
C14: Closing Inventory | D14: 12000 | E14: (1)
C15: Provision for Depreciation of Equipment | F15: 18500 | G15: (1)
C16: Trade Payables | F16: 39000 | G16: (1)
C17: Rent | D17: 28400 | E17: (1)
C18: Carriage In | D18: 3200 | E18: (1)
C19: Discount Received | F19: 1900 | G19: (1)
C20: Bad Debts | D20: 2400 | E20: (1)
C21: Loan | F21: 30000 | G21: (1) | I21: Equity
C22: Purchases Returns | F22: 4700 | G22: (1) | I22: (1) for calculation and (1) for entry
A23: 5. (b) | C23: Equity | F23: =D24-SUM(F4:F22) -> 350000 | G23: (2) | H23: 2 | I23: in correct column
A24: 5. (c) | D24: =SUM(D4:D23) -> 635800 | F24: =SUM(F4:F23) -> 635800 | G24: (1) | H24: 1
A27: 5. (d) | C27: Omission (1) | H27: 2 | I27: 1 mark for each error clearly named. DNA any description without the name. (Any 2 from 6)
C28: Commission (1)
C29: Principle (1)
C30: Original entry (1)
C31: Compensating (1)
C32: Complete reversal (1) Accept reversal on its own

Sheet Q6
A1: Question | B1: Expected Response | K1: Max Mark | L1: Additional Guidance
A2: 6. (a) (i) | B2: Total labour hours to meet the current demand | L2: Ignore labels throughout
C3: Round | E3: Oval | G3: Square | I3: Total | L3: the question
B5: Hours required to produce 1 cake | C5: 2 | E5: 5 | G5: 3 | L5: Watch consequentiality
B6: Current demand | C6: 2500 | E6: 1200 | G6: 900 | L6: throughout the question
B7: Total hours required | C7: =C5*C6 -> 5000 | D7: 1 | E7: =E5*E6 -> 6000 | G7: =G5*G6 -> 2700 | H7: 1 | I7: =C7+E7+G7 -> 13700 | J7: hours 1 | K7: 3
A9: 6. (a) (ii) | B9: Contribution per Unit:
B11: Selling Price | C11: 140 | E11: 265 | G11: 190
B12: Less variable Cost | C12: 60 | E12: 90 | G12: 55
B13: Contribution per Unit | C13: =C11-C12 -> 80 | D13: 1 | E13: =E11-E12 -> 175 | G13: =G11-G12 -> 135 | H13: 1 | K13: 2
A15: 6. (a) (iii) | B15: Contribution per Labour Hour | L15: If wrong calculations
B16: Contribution per Unit/Labour Hours | C16: =C13/C5 -> 40 | D16: 1 | E16: =E13/E5 -> 35 | F16: 1 | G16: =G13/G5 -> 45 | H16: 1 | K16: 3 | L16: no award each time
L17: eg multiplied by hours
L18: instead of dividing
L20: If (a) (iii) missed out then
A21: 6. (b) | B21: Order of Priority | C21: 2ND | E21: 3RD | G21: 1ST | K21: 1 | L21: consequential on CPU.
A24: 6. (c) (i) | B24: Hours allocated to Square | C24: =G5 -> 3 | D24: hrs x | E24: 900 | F24: units = | G24: =C24*E24 -> 2700
B25: Hours allocated to Round | C25: 2 | D25: hrs x | E25: 2500 | F25: units = | G25: =E25*C25 -> 5000 | H25: 1
B27: Hours allocated to Oval
B28: Hours available = | C28: 11200
B29: Hours used for Square and Round | C29: =G24+G25 -> 7700
B30: Hours left for Oval | C30: =C28-C29 -> 3500 | D30: 1 | K30: 2
A32: 6. (c) (ii) | B32: Profit Maximisation | C32: Round | E32: Oval | G32: Square | I32: Total | L32: Correct answer and no
L33: working - award full marks
B34: Contribution per unit | C34: =C13 -> 80 | E34: =E13 -> 175 | G34: =G13 -> 135
B35: Units produced | C35: =E25 -> 2500 | E35: =C30/E5 -> 700 | G35: =E24 -> 900 | L35: If mix and match between
B36: Total Contribution | C36: =C34*C35 -> 200000 | E36: =E34*E35 -> 122500 | F36: 1 | G36: =G34*G35 -> 121500 | H36: 1 | I36: =C36+E36+G36 -> 444000 | J36: 1 | L36: Hours x CPU & units x CPH
B37: Less Fixed Costs | I37: 168000 | L37: no award each time.
B38: Maximum Profit | I38: =I36-I37 -> 276000 | J38: 1 | K38: 4
L39: If wrong calculations, no
L40: award each time for first 2
B41: OR | L41: marks eg adding Selling
L42: Price to Variable cost to
B43: Contribution per labour hour | C43: =C16 -> 40 | E43: =E16 -> 35 | G43: =G16 -> 45 | L43: get CPU of £200 instead of
B44: labour hours allocated | C44: =G25 -> 5000 | E44: =C30 -> 3500 | G44: =G24 -> 2700 | L44: 80
B45: Total Contribution | C45: =C43*C44 -> 200000 | E45: =E43*E44 -> 122500 | F45: 1 | G45: =G43*G44 -> 121500 | H45: 1 | I45: =SUM(C45+E45+G45) -> 444000 | J45: 1
B46: Less Fixed Costs | I46: =I37 -> 168000
B47: Maximum Profit | I47: =I45-I46 -> 276000 | J47: 1
B49: OR
B51: Sales Revenue | C51: =C35*C11 -> 350000 | E51: =E35*E11 -> 185500 | G51: =G35*G11 -> 171000
...
