Workbook

Sheet Inventory
A1: Data | B1: Task 1 - value view
C2: Kilograms | D2: Price (£)
B3: 3 March - Purchased | C3: 900 | D3: 1.06
B4: 4 March - Issued | C4: 350
B5: 5 March - Purchased | C5: 500 | D5: 1.12
B6: 6 March - Issued | C6: 700
B7: 7 March - Returned | C7: 50
B8: 8 March - Issued | C8: 400
A10: INVENTORY RECORD CARD - Onions
C12: Receipts | F12: Issues | I12: Balance
A13: Date | B13: Details | C13: Units (kg) | D13: CPU (£) | E13: Value (£) | F13: Units (kg) | G13: CPU (£) | H13: Value (£) | I13: Units (kg) | J13: CPU (£) | K13: Value (£)
A14: 1 March | B14: Opening Balance | I14: 200 | J14: 1.02 | K14: =I14*J14 -> 204
A17: 3 March | B17: Received from Supplier | C17: =C3 -> 900 | D17: =D3 -> 1.06 | E17: =C17*D17 -> 954 | I17: =I14 -> 200 | J17: =J14 -> 1.02 | K17: =K14 -> 204
I18: =C17 -> 900 | J18: =D17 -> 1.06 | K18: =E17 -> 954 | L18: (1)
K19: =SUM(K17:K18) -> 1158
A20: 4 March | B20: Issues to Production | F20: =I17 -> 200 | G20: =J17 -> 1.02 | H20: =K17 -> 204
F21: =C4-I17 -> 150 | G21: =J18 -> 1.06 | H21: =F21*G21 -> 159 | I21: =I18-F21 -> 750 | J21: =J18 -> 1.06 | K21: =I21*J21 -> 795 | L21: *
H22: (1)
A23: 5 March | B23: Received from Supplier | C23: =C5 -> 500 | D23: =D5 -> 1.12 | E23: =C23*D23 -> 560 | I23: =I21 -> 750 | J23: =J21 -> 1.06 | K23: =K21 -> 795
I24: =C23 -> 500 | J24: =D23 -> 1.12 | K24: =E23 -> 560
C25: (1) for both receipts | K25: =SUM(K23:K24) -> 1355 | L25: (1)
A26: 6 March | B26: Issues to Production | F26: =C6 -> 700 | G26: =J23 -> 1.06 | H26: =F26*G26 -> 742 | I26: =I23-F26 -> 50 | J26: =J23 -> 1.06 | K26: =I26*J26 -> 53
I27: =I24 -> 500 | J27: =J24 -> 1.12 | K27: =K24 -> 560
H28: (1) | K28: =SUM(K26:K27) -> 613 | L28: (1)
A29: 7 March | B29: Returns to Supplier | F29: =C7 -> 50 | G29: =D23 -> 1.12 | H29: =F29*G29 -> 56 | I29: =I26 -> 50 | J29: =J26 -> 1.06 | K29: =K26 -> 53
I30: =I27-F29 -> 450 | J30: =G29 -> 1.12 | K30: =I30*J30 -> 504
H31: (1) | K31: =SUM(K29:K30) -> 557 | L31: (1)
A32: 8 March | B32: Issues to Production | F32: =I29 -> 50 | G32: =J29 -> 1.06 | H32: =K29 -> 53
F33: =C8-I29 -> 350 | G33: =J30 -> 1.12 | H33: =F33*G33 -> 392 | I33: =I30-F33 -> 100 | J33: =J30 -> 1.12 | K33: =I33*J33 -> 112 | L33: *(1) for both
H34: (1)
J36: Total = 10 marks

Sheet Inventory - MI Notes
A1: Task 1 - Additional Guidance
A3: ● | B3: Watch for consequentiality throughout.
A5: ● | B5: If Balance has 2 separate inventories, it needs to show a total value of both inventories to gain the Balance mark. If candidate repeats this, treat as consequential.
B6: (Do not award (DNA) maximum of 1 mark).
A8: ● | B8: Where 2 separate inventories and total value are shown but individual totals are not – accept, eg 3 March only has £1158 in balance.
A10: ● | B10: Issues do not need totals.
A12: ● | B12: If Issues are entered in Receipts, DNA mark each time.
A14: ● | B14: If done as LIFO, DNA the 4 Issue marks.
A16: ● | B16: If done as AVCO, DNA the 5 Balance marks.
A18: ● | B18: If Balance column done as running balance – mark balances box as per solution.
A20: ● | B20: If candidate has gone wrong, Value in the Balance Box MUST BE Units x CPU.
B21: (There are differing ways to get to the Value in the Balance which give differing answers. In this instance, mark the box as stand-alone).
A23: ● | B23: For 8 March Issues, although question requires an issue of 400kg, DNA in Issues column if this figure is higher than the 7 March balance. However, if candidate
B24: does this and Balance goes into negative due to earlier error - treat as consequential in Balance column. If candidate issues all the balance available on 7 March
B25: to take balance of 8 March to 0, then accept as consequential in both the Issues and Balance columns.
A27: ● | B27: If 7 March is treated as a receipt, the balance may contain 2 or 3 groups of inventories (candidate may have added 50 onto 450, or shown the 50 on a third line).
B28: Both are acceptable.

Sheet Inventory - Formula View
A1: Data | B1: Task 1 - formula view
C2: Kilograms | D2: Price (£)
B3: 3 March - Purchased | C3: 900 | D3: 1.06
B4: 4 March - Issued | C4: 350
B5: 5 March - Purchased | C5: 500 | D5: 1.12
B6: 6 March - Issued | C6: 700
B7: 7 March - Returned | C7: 50
B8: 8 March - Issued | C8: 400
A10: INVENTORY RECORD CARD - Onions
C12: Receipts | F12: Issues | I12: Balance
A13: Date | B13: Details | C13: Units (kg) | D13: CPU (£) | E13: Value (£) | F13: Units (kg) | G13: CPU (£) | H13: Value (£) | I13: Units (kg) | J13: CPU (£) | K13: Value (£)
A14: 1 March | B14: Opening Balance | I14: 200 | J14: 1.02 | K14: =I14*J14 -> 204
A17: 3 March | B17: Received from Supplier | C17: =C3 -> 900 | D17: =D3 -> 1.06 | E17: =C17*D17 -> 954 | I17: =I14 -> 200 | J17: =J14 -> 1.02 | K17: =K14 -> 204
I18: =C17 -> 900 | J18: =D17 -> 1.06 | K18: =E17 -> 954
K19: =SUM(K17:K18) -> 1158
A20: 4 March | B20: Issues to Production | F20: =I17 -> 200 | G20: =J17 -> 1.02 | H20: =K17 -> 204
F21: =C4-I17 -> 150 | G21: =J18 -> 1.06 | H21: =F21*G21 -> 159 | I21: =I18-F21 -> 750 | J21: =J18 -> 1.06 | K21: =I21*J21 -> 795
A23: 5 March | B23: Received from Supplier | C23: =C5 -> 500 | D23: =D5 -> 1.12 | E23: =C23*D23 -> 560 | I23: =I21 -> 750 | J23: =J21 -> 1.06 | K23: =K21 -> 795
I24: =C23 -> 500 | J24: =D23 -> 1.12 | K24: =E23 -> 560
K25: =SUM(K23:K24) -> 1355
A26: 6 March | B26: Issues to Production | F26: =C6 -> 700 | G26: =J23 -> 1.06 | H26: =F26*G26 -> 742 | I26: =I23-F26 -> 50 | J26: =J23 -> 1.06 | K26: =I26*J26 -> 53
I27: =I24 -> 500 | J27: =J24 -> 1.12 | K27: =K24 -> 560
K28: =SUM(K26:K27) -> 613
A29: 7 March | B29: Returns to Supplier | F29: =C7 -> 50 | G29: =D23 -> 1.12 | H29: =F29*G29 -> 56 | I29: =I26 -> 50 | J29: =J26 -> 1.06 | K29: =K26 -> 53
I30: =I27-F29 -> 450 | J30: =G29 -> 1.12 | K30: =I30*J30 -> 504
K31: =SUM(K29:K30) -> 557
A32: 8 March | B32: Issues to Production | F32: =I29 -> 50 | G32: =J29 -> 1.06 | H32: =K29 -> 53
F33: =C8-I29 -> 350 | G33: =J30 -> 1.12 | H33: =F33*G33 -> 392 | I33: =I30-F33 -> 100 | J33: =J30 -> 1.12 | K33: =I33*J33 -> 112
E36: 1 mark | H36: 1 mark | K36: 1 mark
A38: 1 mark is awarded for formulae in each of the 3 sections.
A39: The value in the balance column can be calculated in a variety of ways - award marks as long as cell-referenced formulae are used.

Sheet Labour
A1: Total Units Produced | B1: 5000
A3: Preparation Department Data
A4: Basic Wage Rate | B4: 12
A5: No of Staff | B5: 6 | C5: employees
A6: Hours Worked | B6: 9 | C6: hours each
A8: Baking Department Data
A9: Basic Wage Rate | B9: 0.2 | C9: per unit
A10: Expected Production | B10: 50 | C10: units per hour
A11: Actual Hours Worked | B11: 80 | C11: hours
A12: Bonus | B12: 10 | C12: per hour saved
A14: Packaging Department Data
A15: Basic Wage Rate | B15: 10.5 | C15: per hour
A16: Overtime Hours Worked | B16: 10 | C16: hours
A17: Overtime Rate | B17: 1.5 | C17: times basic rate
A18: Total Hours Worked | B18: 40 | C18: hours (including overtime)
A21: LABOUR CALCULATION - Job HH17
A23: PREPARATION DEPARTMENT
A25: Total Hours Worked | B25: =B5*B6 -> 54 | C25: (1)
A26: Total Labour Cost - Preparation | D26: =B25*B4 -> 648 | E26: (1)
A29: BAKING DEPARTMENT
A31: Basic Labour Cost | C31: =B9*B1 -> 1000 | D31: (1)
A33: Total Time Allowed (hours) | B33: =B1/B10 -> 100 | C33: (1)
A34: Total Hours Worked | B34: =B11 -> 80 | C34: (1)
A35: Time Saved (hours) | B35: =B33-B34 -> 20
A36: Total Bonus Paid | C36: =B35*B12 -> 200 | D36: (1)
A38: Total Labour Cost - Baking | D38: =C31+C36 -> 1200 | E38: (1)
A41: PACKAGING DEPARTMENT
A43: Basic Labour Cost | C43: =B15*(B18-B16) -> 315 | D43: (1)
A44: Overtime Cost | C44: =B16*B15*B17 -> 157.5 | D44: (1)
A46: Total Labour Cost - Packaging | D46: =C43+C44 -> 472.5 | E46: (1)
A49: TOTAL LABOUR COST FOR JOB HH17 | D49: =D46+D38+D26 -> 2320.5 | E49: (1)
E51: Total = 11 marks
A53: ● Total Hours Worked in Baking must be 80.
A55: ● Ignore any extra information below Total Labour Cost in either Value or Formula View.

Sheet Labour - Formula View
A1: Total Units Produced | B1: 5000
A3: Preparation Department Data
A4: Basic Wage Rate | B4: 12
A5: No of Staff | B5: 6 | C5: employees
A6: Hours Worked | B6: 9 | C6: hours each
A8: Baking Department Data
A9: Basic Wage Rate | B9: 0.2 | C9: per unit
A10: Expected Production | B10: 50 | C10: units per hour
A11: Actual Hours Worked | B11: 80 | C11: hours
A12: Bonus | B12: 10 | C12: per hour saved
A14: Packaging Department Data
A15: Basic Wage Rate | B15: 10.5 | C15: per hour
A16: Overtime Hours Worked | B16: 10 | C16: hours
A17: Overtime Rate | B17: 1.5 | C17: times basic rate
A18: Total Hours Worked | B18: 40 | C18: hours (including overtime)
A21: LABOUR CALCULATION - Job HH17
A23: PREPARATION DEPARTMENT
A25: Total Hours Worked | B25: =B5*B6 -> 54
A26: Total Labour Cost - Preparation | D26: =B25*B4 -> 648
A29: BAKING DEPARTMENT
A31: Basic Labour Cost | C31: =B9*B1 -> 1000
A33: Total Time Allowed (hours) | B33: =B1/B10 -> 100
A34: Total Hours Worked | B34: =B11 -> 80
A35: Time Saved (hours) | B35: =B33-B34 -> 20
A36: Total Bonus Paid | C36: =B35*B12 -> 200
A38: Total Labour Cost - Baking | D38: =C31+C36 -> 1200
A41: PACKAGING DEPARTMENT
A43: Basic Labour Cost | C43: =B15*(B18-B16) -> 315
A44: Overtime Cost | C44: =B16*B15*B17 -> 157.5
A46: Total Labour Cost - Packaging | D46: =C43+C44 -> 472.5
A49: TOTAL LABOUR COST FOR JOB HH17 | D49: =D46+D38+D26 -> 2320.5
C52: F1 | D52: F2 | F52: Total = 2 marks

Sheet Overheads
A2: DEPARTMENTAL INFORMATION | E2: Preparation | F2: Baking | G2: Packaging | H2: Service | I2: Total
B3: Floor Area (sq m) | E3: 4000 | F3: 7000 | G3: 8000 | H3: 6000 | I3: =SUM(E3:H3) -> 25000
B4: Number of Employees | E4: 30 | F4: 18 | G4: 12 | H4: 20 | I4: =SUM(E4:H4) -> 80
B5: Indirect Materials | E5: 7200 | F5: 4800 | G5: 1240 | H5: 6720 | I5: =SUM(E5:H5) -> 19960
B6: Value of Non-Current Assets | E6: 25000 | F6: 100000 | G6: 50000 | H6: 75000 | I6: =SUM(E6:H6) -> 250000
A9: OVERHEAD ANALYSIS SHEET
C11: Basis of Apportionment | D11: Rate | E11: PRODUCTION DEPARTMENTS
A12: Overhead | B12: Total | E12: Preparation | F12: Baking | G12: Packaging | H12: Service
A13: Indirect Materials | B13: =I5 -> 19960 | C13: Allocated | E13: =E5 -> 7200 | F13: =F5 -> 4800 | G13: =G5 -> 1240 | H13: =H5 -> 6720 | I13: (1)
A14: Rent and Rates | B14: 84000 | C14: Floor Area (sq m) | D14: =B14/I3 -> 3.36 | E14: =$D$14*E3 -> 13440 | F14: =$D$14*F3 -> 23520 | G14: =$D$14*G3 -> 26880 | H14: =$D$14*H3 -> 20160 | I14: (1)
A15: Employee Supervision | B15: 90000 | C15: Number of Employees | D15: =B15/I4 -> 1125 | E15: =$D$15*E4 -> 33750 | F15: =$D$15*F4 -> 20250 | G15: =$D$15*G4 -> 13500 | H15: =$D$15*H4 -> 22500 | I15: (1)
A16: Heat and Light | B16: 42000 | C16: Floor Area (sq m) | D16: =B16/I3 -> 1.68 | E16: =$D$16*E3 -> 6720 | F16: =$D$16*F3 -> 11760 | G16: =$D$16*G3 -> 13440 | H16: =$D$16*H3 -> 10080 | I16: (1)
A17: Depreciation of Non-Current Assets | B17: 60000 | C17: Value of Non-Current Assets | D17: =B17/I6 -> 0.24 | E17: =$D$17*E6 -> 6000 | F17: =$D$17*F6 -> 24000 | G17: =$D$17*G6 -> 12000 | H17: =$D$17*H6 -> 18000 | I17: (1)
A18: TOTAL OVERHEADS | E18: =SUM(E13:E17) -> 67110 | F18: =SUM(F13:F17) -> 84330 | G18: =SUM(G13:G17) -> 67060 | H18: =SUM(H13:H17) -> 77460 | I18: *
A19: Re-apportionment of Service | B19: =H18 -> 77460 | C19: Number of Employees | D19: =H18/(I4-H4) -> 1291 | E19: =$D$19*E4 -> 38730 | F19: =$D$19*F4 -> 23238 | G19: =$D$19*G4 -> 15492 | H19: (2)
A20: TOTAL PRODUCTION OVERHEADS | E20: =E18+E19 -> 105840 | F20: =F18+F19 -> 107568 | G20: =G18+G19 -> 82552 | H20: * (1) for both
H22: Total = 8 marks
A23: Additional Guidance
A25: ● Candidates do not need to have completed Basis of Apportionment or Rate columns, therefore do not penalise incorrect information in these columns in Value View.
A27: ● If the number 1 appears in the rate column for Indirect Materials - Ignore in both Value and Formula View.
A29: ● For the re-apportionment of Service Dept, if one error - award 1 mark. If two errors - award 0 marks.
A31: ● If Service Dept has re-apportionment figure, DNA 1 of the 2 re-apportionment marks but do not penalise inclusion in Final Total.
A33: ● If re-apportionment split correct but candidate shows £77,460 in final line - DNA Subtotal/Total mark.
A35: ● If no re-apportionment done (and thus no final total) award mark for subtotal as being final total (accept if Service Dept not subtotalled/totalled).
A37: NOTE - Employee Supervision rate was set to 0 decimal places. If wrong basis used - decimal places will not show in printout.

Sheet Overheads - Formula View
A2: DEPARTMENTAL INFORMATION | E2: Preparation | F2: Baking | G2: Packaging | H2: Service | I2: Total
B3: Floor Area (sq m) | E3: 4000 | F3: 7000 | G3: 8000 | H3: 6000 | I3: =SUM(E3:H3) -> 25000
B4: Number of Employees | E4: 30 | F4: 18 | G4: 12 | H4: 20 | I4: =SUM(E4:H4) -> 80
B5: Indirect Materials | E5: 7200 | F5: 4800 | G5: 1240 | H5: 6720 | I5: =SUM(E5:H5) -> 19960
B6: Value of Non-Current Assets | E6: 25000 | F6: 100000 | G6: 50000 | H6: 75000 | I6: =SUM(E6:H6) -> 250000
A9: OVERHEAD ANALYSIS SHEET
C11: Basis of Apportionment | D11: Rate | E11: PRODUCTION DEPARTMENTS
A12: Overhead | B12: Total | E12: Preparation | F12: Baking | G12: Packaging | H12: Service
A13: Indirect Materials | B13: =I5 -> 19960 | C13: Allocated | E13: =E5 -> 7200 | F13: =F5 -> 4800 | G13: =G5 -> 1240 | H13: =H5 -> 6720 | I13: F3
A14: Rent and Rates | B14: 84000 | C14: Floor Area (sq m) | D14: =B14/I3 -> 3.36 | E14: =$D$14*E3 -> 13440 | F14: =$D$14*F3 -> 23520 | G14: =$D$14*G3 -> 26880 | H14: =$D$14*H3 -> 20160 | I14: F1
A15: Employee Supervision | B15: 90000 | C15: Number of Employees | D15: =B15/I4 -> 1125 | E15: =$D$15*E4 -> 33750 | F15: =$D$15*F4 -> 20250 | G15: =$D$15*G4 -> 13500 | H15: =$D$15*H4 -> 22500 | I15: F1
A16: Heat and Light | B16: 42000 | C16: Floor Area (sq m) | D16: =B16/I3 -> 1.68 | E16: =$D$16*E3 -> 6720 | F16: =$D$16*F3 -> 11760 | G16: =$D$16*G3 -> 13440 | H16: =$D$16*H3 -> 10080 | I16: F1
A17: Depreciation of Non-Current Assets | B17: 60000 | C17: Value of Non-Current Assets | D17: =B17/I6 -> 0.24 | E17: =$D$17*E6 -> 6000 | F17: =$D$17*F6 -> 24000 | G17: =$D$17*G6 -> 12000 | H17: =$D$17*H6 -> 18000 | I17: F1
A18: TOTAL OVERHEADS | E18: =SUM(E13:E17) -> 67110 | F18: =SUM(F13:F17) -> 84330 | G18: =SUM(G13:G17) -> 67060 | H18: =SUM(H13:H17) -> 77460 | I18: F3
A19: Re-apportionment of Service | B19: =H18 -> 77460 | C19: Number of Employees | D19: =H18/(I4-H4) -> 1291 | E19: =$D$19*E4 -> 38730 | F19: =$D$19*F4 -> 23238 | G19: =$D$19*G4 -> 15492 | I19: F2
A20: TOTAL PRODUCTION OVERHEADS | E20: =E18+E19 -> 105840 | F20: =F18+F19 -> 107568 | G20: =G18+G19 -> 82552 | I20: F3
A22: Additional Guidance | I22: Total = 3 marks
A24: ● If candidate has not re-apportioned - DNA F2 mark.
A26: ● Although candidates do not need to have completed Rate column, if numbers used in formula in Rate column - DNA formula award/(s). (Except for Indirect Materials)
A28: ● Ignore a typed 0 in the Service Dept re-apportionment and a typed 1 in the Rate column for Indirect Materials.
A30: ● Candidates do not need to use cell B19. However, if they do it must be cell referenced. If not - DNA F2 mark.

Sheet Job Cost Statement
A2: DATA | C2: VAT Rate | D2: 0.2
C3: Profit Rate | D3: 0.4
A4: Materials
A5: 4th March | B5: 100 | C5: kgs (the first 100kgs issued)
A6: 6th March | B6: 0.15 | C6: of the total issues on that date
A7: Additional ingredients | B7: 1525
A8: Cost of Packaging | B8: 83.2
A10: Overhead Rates
A11: Preparation | B11: 2 | C11: per direct labour hour (basic)
A12: Baking | B12: 1.5 | C12: per direct labour hour (basic)
A13: Packaging | B13: 3 | C13: per direct labour hour (basic)
A16: JOB COST STATEMENT - HH17
B17: £ | C17: £
A18: MATERIALS
A19: Onions - 4th March | B19: =B5*Inventory!G20 -> 102 | C19: (1)
A20: Onions - 6th March | B20: =Inventory!H26*'Job Cost Statement'!B6 -> 111.3 | C20: (1)
A21: Additional Ingredients | B21: =B7 -> 1525 | C21: *
A22: Packaging | B22: =B8 -> 83.2 | C22: *
A23: Total Material Cost | C23: =SUM(B19:B22) -> 1821.5 | D23: * (1) | E23: *for both entries
E24: and 3 subtotals
A25: LABOUR
A26: Preparation Department | B26: =Labour!D26 -> 648
A27: Baking Department | B27: =Labour!D38 -> 1200 | C27: (1)
A28: Packaging Department | B28: =Labour!D46 -> 472.5
A29: Total Labour Cost | C29: =SUM(B26:B28) -> 2320.5 | D29: *
A31: OVERHEADS
A32: Preparation Department | B32: =Labour!B25*'Job Cost Statement'!B11 -> 108 | C32: (1)
A33: Baking Department | B33: =Labour!B34*'Job Cost Statement'!B12 -> 120
A34: Packaging Department | B34: =(Labour!B18-Labour!B16)*'Job Cost Statement'!B13 -> 90 | C34: (2)
A35: Total Overhead Cost | C35: =SUM(B32:B34) -> 318 | D35: *
A36: TOTAL COST | C36: =SUM(C23:C35) -> 4460 | D36: ‡
A37: Profit | C37: =C36*D3 -> 1784 | D37: (1)
C38: =C36+C37 -> 6244 | D38: ‡
A39: VAT | C39: =C38*D2 -> 1248.8 | D39: (1)
A40: SELLING PRICE | C40: =C38+C39 -> 7492.8 | D40: ‡ (1) | E40: ‡ for all 3 subtotals/totals
D42: 10 Marks
A44: Additional Guidance
A46: ● If candidate has applied VAT and Mark-Up to each subtotal - accept for 1 mark each.
A47: (In this instance - it doesn't matter if VAT is before Profit in the formula)
A48: Final Selling Price may also be awarded if candidate shows this seperately.
...

Sheet Job Cost Statement - Formula
A1: Task 4 - value view
A2: DATA | C2: VAT Rate | D2: 0.2
C3: Profit Rate | D3: 0.4
A4: Materials
A5: 4th March | B5: 100 | C5: kgs (the first 100kgs issued)
A6: 6th March | B6: 0.15 | C6: of the total issues on that date
A7: Additional ingredients | B7: 1525
A8: Cost of Packaging | B8: 83.2
A10: Overhead Rates
A11: Preparation | B11: 2 | C11: per direct labour hour (basic)
A12: Baking | B12: 1.5 | C12: per direct labour hour (basic)
A13: Packaging | B13: 3 | C13: per direct labour hour (basic)
A16: JOB COST STATEMENT - HH17
B17: £ | C17: £
A18: MATERIALS
A19: Onions - 4th March | B19: =B5*Inventory!G20 -> 102
A20: Onions - 6th March | B20: =Inventory!H26*'Job Cost Statement'!B6 -> 111.3
A21: Additional Ingredients | B21: =B7 -> 1525
A22: Packaging | B22: =B8 -> 83.2
A23: Total Material Cost | C23: =SUM(B19:B22) -> 1821.5
D24: F1
A25: LABOUR
A26: Preparation Department | B26: =Labour!D26 -> 648
A27: Baking Department | B27: =Labour!D38 -> 1200
A28: Packaging Department | B28: =Labour!D46 -> 472.5
A29: Total Labour Cost | C29: =SUM(B26:B28) -> 2320.5
A31: OVERHEADS
A32: Preparation Department | B32: =Labour!B25*'Job Cost Statement'!B11 -> 108
A33: Baking Department | B33: =Labour!B34*'Job Cost Statement'!B12 -> 120 | D33: F2
A34: Packaging Department | B34: =(Labour!B18-Labour!B16)*'Job Cost Statement'!B13 -> 90
A35: Total Overhead Cost | C35: =SUM(B32:B34) -> 318
A36: TOTAL COST | C36: =SUM(C23:C35) -> 4460
A37: Profit | C37: =C36*D3 -> 1784
C38: =C36+C37 -> 6244 | D38: F3
A39: VAT | C39: =C38*D2 -> 1248.8
A40: SELLING PRICE | C40: =C38+C39 -> 7492.8
